BEGIN:VCALENDAR
VERSION:2.0
PRODID:-//musée des beaux-arts et d&#039;archéologie de Besançon - ECPv5.14.2.1//NONSGML v1.0//EN
CALSCALE:GREGORIAN
METHOD:PUBLISH
X-WR-CALNAME:musée des beaux-arts et d&#039;archéologie de Besançon
X-ORIGINAL-URL:https://www.mbaa.besancon.fr
X-WR-CALDESC:évènements pour musée des beaux-arts et d&#039;archéologie de Besançon
BEGIN:VTIMEZONE
TZID:Europe/Paris
BEGIN:DAYLIGHT
TZOFFSETFROM:+0100
TZOFFSETTO:+0200
TZNAME:CEST
DTSTART:20220327T010000
END:DAYLIGHT
BEGIN:STANDARD
TZOFFSETFROM:+0200
TZOFFSETTO:+0100
TZNAME:CET
DTSTART:20221030T010000
END:STANDARD
END:VTIMEZONE
BEGIN:VEVENT
DTSTART;TZID=Europe/Paris:20220305T150000
DTEND;TZID=Europe/Paris:20220310T210000
DTSTAMP:20260424T094603
CREATED:20220201T143139Z
LAST-MODIFIED:20220201T143257Z
UID:6143-1646492400-1646946000@www.mbaa.besancon.fr
SUMMARY:Semaine spéciale droits des femmes
DESCRIPTION:À l’occasion du 8 mars\, Journée internationale des droits des femmes\, le musée propose une semaine thématique sur la question: \n>Le samedi 5 mars : \nÀ 15h : stage 14-18 ans “¨Portrait de femme”. Gratuit\, sur inscription* \n  \n>Le dimanche 6 mars : \nÀ 10h30 : visite famille dédiée aux portraits de femmes. Entrée et visite gratuites\, réservation conseillée \nÀ 16h30 : visite adultes Femmes peintes\, femmes peintres : femmes artistes et femmes d’artistes. Entrée et visite gratuites\, réservation conseillée \n  \n>Le mercredi 9 mars : \nÀ 14h15 : atelier 7-12 ans La revanche de méduse. Sur inscription * (5€ par enfant). \n  \n>Le jeudi 10 mars : \nÀ 20h : visite-débat “Des seins\, des saintes : Les femmes dans l’art de la préhistoire au XXe siècle”\, proposée par le musée des beaux-arts et d’archéologie et la Fédération Léo Lagrange (gratuit) – en partenariat avec le « collectif du 8 mars » et la mission de Lutte contre les Discriminations de la Ville de Besançon. \n  \nInscription au 03 81 87 80 49 ou par mail à reservationsmusees@besancon.fr 
URL:https://www.mbaa.besancon.fr/event/semaine-speciale-droits-des-femmes/
CATEGORIES:atelier,Histoire de l'art,médiation,public adulte,public jeune,rencontre,Stage,visite guidée
END:VEVENT
BEGIN:VEVENT
DTSTART;TZID=Europe/Paris:20220310T120000
DTEND;TZID=Europe/Paris:20220316T130000
DTSTAMP:20260424T094603
CREATED:20220201T143515Z
LAST-MODIFIED:20220201T143515Z
UID:6144-1646913600-1647435600@www.mbaa.besancon.fr
SUMMARY:Circuit "Antoine et Cléopâtre" avec le CDN
DESCRIPTION:Du jeudi 10 mars au mercredi 16 mars de 12h à 13h. (Excepté le mardi) \nCette visite guidée a été pensée pour faire écho à la pièce de William Shakespeare\, Antoine et Cléopâtre\, mise en scène par Célie Pauthe et présentée à ces dates au CDN de Besançon. Redécouvrez la rencontre d’Antoine (le romain) et de Cléopâtre (l’Egyptienne)\, une union qui a alimenté l’imaginaire et suscité de multiples œuvres tout au long de l’histoire de l’art. \nGratuit\, réservation conseillée au 03 81 87 80 49 ou par mail à reservationsmusees@besancon.fr 
URL:https://www.mbaa.besancon.fr/event/circuit-antoine-et-cleopatre-avec-le-cdn/
CATEGORIES:Histoire de l'art,Partenariat,public adulte,visite guidée
END:VEVENT
BEGIN:VEVENT
DTSTART;TZID=Europe/Paris:20220310T180000
DTEND;TZID=Europe/Paris:20220310T210000
DTSTAMP:20260424T094603
CREATED:20220201T142008Z
LAST-MODIFIED:20220201T142008Z
UID:6139-1646935200-1646946000@www.mbaa.besancon.fr
SUMMARY:Nocturne du MBAA / Le jeudi 10 mars de 18h à 21h
DESCRIPTION:Débat\, musique et poésie \nÀ 18h15 : XX XXI – création\, improvisation en solo ou ensembles à géométrie variable avec les classes piano du Conservatoire à rayonnement régional de Besançon. \nÀ 19h : Rencontre avec Alain Freixe dans le cadre des Poètes du jeudi\, éditions L’Armourier\, vice-président du centre Joë Bousquet et son temps\, auteur d’un livre d’artiste illustré de 90 eaux fortes de Remo Giatti. \nÀ 20h : Visite-débat “Des seins\, des saintes : Les femmes dans l’art de la préhistoire au XXe siècle”\, proposée par le musée des beaux-arts et d’archéologie et  (gratuit) – en partenariat avec la Fédération Léo Lagrange\, le « collectif du 8 mars » et la mission de Lutte contre les Discriminations de la Ville de Besançon. \nGratuit sans réservation. \nDans la limite des places disponibles.
URL:https://www.mbaa.besancon.fr/event/nocturne-du-mbaa-le-jeudi-10-mars-de-18h-a-21h/
CATEGORIES:concert,nocturne,rencontre,visite guidée
END:VEVENT
END:VCALENDAR