BEGIN:VCALENDAR
VERSION:2.0
PRODID:-//musée des beaux-arts et d&#039;archéologie de Besançon - ECPv5.14.2.1//NONSGML v1.0//EN
CALSCALE:GREGORIAN
METHOD:PUBLISH
X-WR-CALNAME:musée des beaux-arts et d&#039;archéologie de Besançon
X-ORIGINAL-URL:https://www.mbaa.besancon.fr
X-WR-CALDESC:évènements pour musée des beaux-arts et d&#039;archéologie de Besançon
BEGIN:VTIMEZONE
TZID:Europe/Paris
BEGIN:DAYLIGHT
TZOFFSETFROM:+0100
TZOFFSETTO:+0200
TZNAME:CEST
DTSTART:20220327T010000
END:DAYLIGHT
BEGIN:STANDARD
TZOFFSETFROM:+0200
TZOFFSETTO:+0100
TZNAME:CET
DTSTART:20221030T010000
END:STANDARD
END:VTIMEZONE
BEGIN:VEVENT
DTSTART;TZID=Europe/Paris:20220214T141500
DTEND;TZID=Europe/Paris:20220214T161500
DTSTAMP:20260424T112116
CREATED:20220202T075732Z
LAST-MODIFIED:20220203T090637Z
UID:6196-1644848100-1644855300@www.mbaa.besancon.fr
SUMMARY:Atelier "Coup de foudre au musée : Atelier Saint Valentin" / 7-12 ans
DESCRIPTION:Le lundi 14 février à 14h15 \nVenez déclarer votre amour à une ou plusieurs œuvres du musée si le cœur vous en dit. Parce qu’on ne dira jamais assez je t’aime\, un atelier plein d’amour pour cette Saint Valentin. \nSur réservation au 03 81 87 80 49 ou par mail à reservationsmusees@besancon.fr \n5€ par personne
URL:https://www.mbaa.besancon.fr/event/atelier-coup-de-foudre-au-musee-atelier-saint-valentin/
CATEGORIES:atelier,visite guidée
END:VEVENT
BEGIN:VEVENT
DTSTART;TZID=Europe/Paris:20220214T180000
DTEND;TZID=Europe/Paris:20220214T210000
DTSTAMP:20260424T112116
CREATED:20220201T141602Z
LAST-MODIFIED:20220201T141602Z
UID:6138-1644861600-1644872400@www.mbaa.besancon.fr
SUMMARY:Nocturne gratuite spéciale Saint Valentin
DESCRIPTION:À l’occasion de la Saint Valentin\, venez vivre une expérience unique et sensorielle au MBAA. Seul.e ou accompagné.e\, venez célébrer l’amour le temps d’une soirée !\n\nAu programme :\n\n ALL YOU NEED IS LOVE / DJ SET\nLes artistes francs-comtois Zerolex et Flow-er enflamment le MBAA et vous proposent une ambiance musicale sous le signe de l’amour…\n\n ONDE SENSUELLE / LIVE DU 102.4 FM\nLa Radio Campus sera présente tout au long de la soirée pour animer une émission en direct du “studio MBAA”.\n\n TOUCH MY BODY / CALINOTHÉRAPIE\nCette année encore\, l’association humanitaire des étudiants kinés de Besançon Kiamalou vous donne rendez-vous dans les recoins du musée pour un moment de détente\, le temps d’un massage\, solo ou duo\, sous le regard des œuvres…\n\n SOMEONE LIKE YOU / DIVINATION & BONNE FORTUNE\nVenez profiter des prédictions lors de séances personnalisées avec la diseuse de bonne aventure Luna Loca de la Compagnie Truelle Destin : choisissez les cartes\, les lignes de la main ou l’incontournable boule de plastique\, et posez-lui vos questions. Qui sait\, à part elle\, ce qu’elle va bien pouvoir découvrir…\n\n MESSAGE PERSONNEL / LOVE TEST\nÊtes-vous plutôt cœur d’artichaut ou cœur de pierre ? Romantique ou pragmatique ?\nA l’occasion de la Saint-Valentin\, le musée des beaux-arts et d’archéologie vous propose un test de personnalité itinérant pour vous permettre de découvrir votre profil amoureux…\n\n DON’T LEAVE ME NOW / AFTER ÉPHÉMÉRIDE\nEnvie de festoyer après 21h ? Le bar l’Éphéméride\, situé juste en face du musée\, vous accueille et vous ensorcelle avec son filtre d’amour… Un cocktail acheté un cocktail offert sur présentation de votre ticket d’entrée du musée.\n\n Entrée gratuite\, sans réservation\, dans la limite des places disponibles
URL:https://www.mbaa.besancon.fr/event/nocturne-gratuite-speciale-saint-valentin/
CATEGORIES:concert,expo,manifestation,médiation,nocturne,rencontre,tout public
END:VEVENT
END:VCALENDAR