BEGIN:VCALENDAR
VERSION:2.0
PRODID:-//musée des beaux-arts et d&#039;archéologie de Besançon - ECPv5.14.2.1//NONSGML v1.0//EN
CALSCALE:GREGORIAN
METHOD:PUBLISH
X-WR-CALNAME:musée des beaux-arts et d&#039;archéologie de Besançon
X-ORIGINAL-URL:https://www.mbaa.besancon.fr
X-WR-CALDESC:évènements pour musée des beaux-arts et d&#039;archéologie de Besançon
BEGIN:VTIMEZONE
TZID:Europe/Paris
BEGIN:DAYLIGHT
TZOFFSETFROM:+0100
TZOFFSETTO:+0200
TZNAME:CEST
DTSTART:20220327T010000
END:DAYLIGHT
BEGIN:STANDARD
TZOFFSETFROM:+0200
TZOFFSETTO:+0100
TZNAME:CET
DTSTART:20221030T010000
END:STANDARD
END:VTIMEZONE
BEGIN:VEVENT
DTSTART;TZID=Europe/Paris:20220206T103000
DTEND;TZID=Europe/Paris:20220206T113000
DTSTAMP:20260424T123035
CREATED:20220201T144829Z
LAST-MODIFIED:20220201T144829Z
UID:6150-1644143400-1644147000@www.mbaa.besancon.fr
SUMMARY:Visite famille
DESCRIPTION:Les dimanches 6 février\, 3 avril et 5 juin à 10h30 \nUn musée\, qu’est-ce que c’est\, qu’est-ce qu’on trouve dedans ? Une sculpture\, une mosaïque\, c’est fait comment ? Autour d’une sélection d’œuvres\, découverte des expositions permanentes ou temporaires en compagnie d’un guide\, pour les petits et les grands. \n  \nLe dimanche 6 mars à 10h30 \nVisite dédiée aux portraits de femmes. \n  \nDurée : 1h \nGratuit \nRéservation conseillée au 03 81 87 80 49 ou par mail à resrevationsmusees@besancon.fr
URL:https://www.mbaa.besancon.fr/event/visite-famille-18/
CATEGORIES:Famille,visite guidée
END:VEVENT
BEGIN:VEVENT
DTSTART;TZID=Europe/Paris:20220206T150000
DTEND;TZID=Europe/Paris:20220206T160000
DTSTAMP:20260424T123035
CREATED:20220201T093941Z
LAST-MODIFIED:20220201T093941Z
UID:6087-1644159600-1644163200@www.mbaa.besancon.fr
SUMMARY:Visite guidée de l'exposition "En toute discrétion"
DESCRIPTION:
URL:https://www.mbaa.besancon.fr/event/visite-guidee-de-lexposition-en-toute-discretion-12/
CATEGORIES:expo,visite guidée
END:VEVENT
BEGIN:VEVENT
DTSTART;TZID=Europe/Paris:20220206T160000
DTEND;TZID=Europe/Paris:20220206T173000
DTSTAMP:20260424T123035
CREATED:20220201T135941Z
LAST-MODIFIED:20220201T140224Z
UID:6133-1644163200-1644168600@www.mbaa.besancon.fr
SUMMARY:Cycle de conférence autour de l'exposition "En toute discrétion"
DESCRIPTION:Le dimanche 6 février à 16h \nHélène Bonafous-Murat\, Les secrets de la gravure \nÀ travers un parcours en images seront présentées les techniques de la gravure en taille-douce : burin\, pointe sèche\, eau-forte\, vernis mou et aquatinte. Les notions d’« épreuves d’état »\, de travail subtil des matrices et de leur usure\, les questions d’impression et de tirage d’une planche seront abordées par l’exemple\, à l’occasion d’une plongée dans les œuvres de la collection Jacquemin. \nSuivie d’une séance de dédicace. \nRéservation conseillée au 03 81 87 80 49 ou par mail à reservationsmusees@besancon.fr \nPlaces limitées
URL:https://www.mbaa.besancon.fr/event/cycle-de-conference-autour-de-lexposition-en-toute-discretion/
CATEGORIES:conférence,expo,Histoire de l'art,public adulte
END:VEVENT
BEGIN:VEVENT
DTSTART;TZID=Europe/Paris:20220206T163000
DTEND;TZID=Europe/Paris:20220206T173000
DTSTAMP:20260424T123035
CREATED:20220201T095333Z
LAST-MODIFIED:20220201T095333Z
UID:6109-1644165000-1644168600@www.mbaa.besancon.fr
SUMMARY:Visite guidée "La peinture au temps de Simon Vouet"
DESCRIPTION:
URL:https://www.mbaa.besancon.fr/event/visite-guidee-la-peinture-au-temps-de-simon-vouet/
CATEGORIES:expo,visite guidée
END:VEVENT
END:VCALENDAR