BEGIN:VCALENDAR
VERSION:2.0
PRODID:-//musée des beaux-arts et d&#039;archéologie de Besançon - ECPv5.14.2.1//NONSGML v1.0//EN
CALSCALE:GREGORIAN
METHOD:PUBLISH
X-WR-CALNAME:musée des beaux-arts et d&#039;archéologie de Besançon
X-ORIGINAL-URL:https://www.mbaa.besancon.fr
X-WR-CALDESC:évènements pour musée des beaux-arts et d&#039;archéologie de Besançon
BEGIN:VTIMEZONE
TZID:Europe/Paris
BEGIN:DAYLIGHT
TZOFFSETFROM:+0100
TZOFFSETTO:+0200
TZNAME:CEST
DTSTART:20220327T010000
END:DAYLIGHT
BEGIN:STANDARD
TZOFFSETFROM:+0200
TZOFFSETTO:+0100
TZNAME:CET
DTSTART:20221030T010000
END:STANDARD
END:VTIMEZONE
BEGIN:VEVENT
DTSTART;TZID=Europe/Paris:20220115T100000
DTEND;TZID=Europe/Paris:20220116T180000
DTSTAMP:20260424T122916
CREATED:20211029T120658Z
LAST-MODIFIED:20211029T120658Z
UID:5867-1642240800-1642356000@www.mbaa.besancon.fr
SUMMARY:Stages d'initiation à la gravure
DESCRIPTION:Stages d’initiation à la gravure avec Thibault Quittelier (atelier TANK)\nDans le cadre de l’exposition « En toute discrétion »\, stages sur deux jours de 10h à 18h :\n Les 15 et 16 janvier 2022\nAtelier de gravure à la pointe sèche\n Les 12 et 13 mars 2022\nAtelier de gravure à l’eau-forte\n 10 places disponibles\, sur réservation*\n👛 20 euros \n* INSCRIPTIONS\nRÉSERVATIONS :\nappelez le 03 81 87 80 49 ou envoyez un mail à : reservationsmusees@besancon.fr
URL:https://www.mbaa.besancon.fr/event/stages-dinitiation-a-la-gravure/
CATEGORIES:atelier,expo,public adulte,Stage
END:VEVENT
BEGIN:VEVENT
DTSTART;TZID=Europe/Paris:20220116T103000
DTEND;TZID=Europe/Paris:20220116T123000
DTSTAMP:20260424T122916
CREATED:20211029T132229Z
LAST-MODIFIED:20211029T132229Z
UID:5890-1642329000-1642336200@www.mbaa.besancon.fr
SUMMARY:"Les P'tits curieux" 3-6 ans
DESCRIPTION:« À l’aise\, glaise! » – Manipulation & modelage\n Le dimanche 16 janvier à 10h30\nUne statue\, c’est taillé dans la pierre ou dans le bois\, ou ça peut être modelé dans la terre avec ses petits doigts. Découverte de sculptures de musées et manipulation de moulages et d’argile. \nDurée : 1h30 à 2h environ\nGratuit\nSur inscription* \n* INSCRIPTIONS\nRÉSERVATIONS :\nappelez le 03 81 87 80 49 ou envoyez un mail à : reservationsmusees@besancon.fr
URL:https://www.mbaa.besancon.fr/event/les-ptits-curieux-3-6-ans-11/
CATEGORIES:atelier,jeune public,visite guidée
END:VEVENT
BEGIN:VEVENT
DTSTART;TZID=Europe/Paris:20220116T150000
DTEND;TZID=Europe/Paris:20220116T160000
DTSTAMP:20260424T122916
CREATED:20211029T093827Z
LAST-MODIFIED:20211029T093827Z
UID:5847-1642345200-1642348800@www.mbaa.besancon.fr
SUMMARY:Visite guidée de l'exposition "En toute discrétion"
DESCRIPTION:
URL:https://www.mbaa.besancon.fr/event/visite-guidee-de-lexposition-en-toute-discretion-9/
CATEGORIES:tout public,visite guidée
END:VEVENT
BEGIN:VEVENT
DTSTART;TZID=Europe/Paris:20220116T163000
DTEND;TZID=Europe/Paris:20220116T173000
DTSTAMP:20260424T122916
CREATED:20211029T113231Z
LAST-MODIFIED:20211029T113231Z
UID:5860-1642350600-1642354200@www.mbaa.besancon.fr
SUMMARY:Visite guidée "Les sentiments de la nature"
DESCRIPTION:Du paysage à la nature morte\, faites le plein de verdure !
URL:https://www.mbaa.besancon.fr/event/visite-guidee-les-sentiments-de-la-nature/
CATEGORIES:tout public,visite guidée
END:VEVENT
END:VCALENDAR