BEGIN:VCALENDAR
VERSION:2.0
PRODID:-//musée des beaux-arts et d&#039;archéologie de Besançon - ECPv5.14.2.1//NONSGML v1.0//EN
CALSCALE:GREGORIAN
METHOD:PUBLISH
X-WR-CALNAME:musée des beaux-arts et d&#039;archéologie de Besançon
X-ORIGINAL-URL:https://www.mbaa.besancon.fr
X-WR-CALDESC:évènements pour musée des beaux-arts et d&#039;archéologie de Besançon
BEGIN:VTIMEZONE
TZID:Europe/Paris
BEGIN:DAYLIGHT
TZOFFSETFROM:+0100
TZOFFSETTO:+0200
TZNAME:CEST
DTSTART:20220327T010000
END:DAYLIGHT
BEGIN:STANDARD
TZOFFSETFROM:+0200
TZOFFSETTO:+0100
TZNAME:CET
DTSTART:20221030T010000
END:STANDARD
END:VTIMEZONE
BEGIN:VEVENT
DTSTART;TZID=Europe/Paris:20220115T100000
DTEND;TZID=Europe/Paris:20220116T180000
DTSTAMP:20260424T122909
CREATED:20211029T120658Z
LAST-MODIFIED:20211029T120658Z
UID:5867-1642240800-1642356000@www.mbaa.besancon.fr
SUMMARY:Stages d'initiation à la gravure
DESCRIPTION:Stages d’initiation à la gravure avec Thibault Quittelier (atelier TANK)\nDans le cadre de l’exposition « En toute discrétion »\, stages sur deux jours de 10h à 18h :\n Les 15 et 16 janvier 2022\nAtelier de gravure à la pointe sèche\n Les 12 et 13 mars 2022\nAtelier de gravure à l’eau-forte\n 10 places disponibles\, sur réservation*\n👛 20 euros \n* INSCRIPTIONS\nRÉSERVATIONS :\nappelez le 03 81 87 80 49 ou envoyez un mail à : reservationsmusees@besancon.fr
URL:https://www.mbaa.besancon.fr/event/stages-dinitiation-a-la-gravure/
CATEGORIES:atelier,expo,public adulte,Stage
END:VEVENT
END:VCALENDAR