BEGIN:VCALENDAR
VERSION:2.0
PRODID:-//musée des beaux-arts et d&#039;archéologie de Besançon - ECPv5.14.2.1//NONSGML v1.0//EN
CALSCALE:GREGORIAN
METHOD:PUBLISH
X-WR-CALNAME:musée des beaux-arts et d&#039;archéologie de Besançon
X-ORIGINAL-URL:https://www.mbaa.besancon.fr
X-WR-CALDESC:évènements pour musée des beaux-arts et d&#039;archéologie de Besançon
BEGIN:VTIMEZONE
TZID:Europe/Paris
BEGIN:DAYLIGHT
TZOFFSETFROM:+0100
TZOFFSETTO:+0200
TZNAME:CEST
DTSTART:20220327T010000
END:DAYLIGHT
BEGIN:STANDARD
TZOFFSETFROM:+0200
TZOFFSETTO:+0100
TZNAME:CET
DTSTART:20221030T010000
END:STANDARD
END:VTIMEZONE
BEGIN:VEVENT
DTSTART;TZID=Europe/Paris:20220108T100000
DTEND;TZID=Europe/Paris:20220108T180000
DTSTAMP:20260424T122905
CREATED:20211029T114346Z
LAST-MODIFIED:20211029T114346Z
UID:5865-1641636000-1641664800@www.mbaa.besancon.fr
SUMMARY:Samedi piétons / Le 8 janvier
DESCRIPTION:L’entrée au musée est gratuite. \n> Finissage de l’exposition « Infiniment »\nVisites et animations (horaires en cours) \n>À 16h Présentation du dessin attribué à Dürer « La Chauve-souris » par Amandine Royer conservatrice arts graphiques et les étudiant.e.s de l’ISBA.
URL:https://www.mbaa.besancon.fr/event/samedi-pietons-le-8-janvier/
CATEGORIES:atelier,expo,rencontre,tout public,visite guidée
END:VEVENT
BEGIN:VEVENT
DTSTART;TZID=Europe/Paris:20220108T150000
DTEND;TZID=Europe/Paris:20220108T170000
DTSTAMP:20260424T122905
CREATED:20211104T105413Z
LAST-MODIFIED:20211104T105413Z
UID:5915-1641654000-1641661200@www.mbaa.besancon.fr
SUMMARY:Atelier "Le temps suspendu - L'art de la nature morte"
DESCRIPTION:Le MDT s’invite au MBAA \nLe temps qui passe a toujours su fasciner les artistes… À travers cette visite-atelier autour des natures mortes et de la technique du collage\, nous aborderons la notion éminemment abstraite du temps en nous intéressant plus particulièrement à sa représentation symbolique et aux objets qui le matérialisent. \n Le samedi 11 décembre\, à 15h\nPour les 8-9 ans\n Le samedi 8 janvier\, à 15h\nPour les 10-11 ans \nDurée 2h\nSur inscription*\n5€ par enfant \n* INSCRIPTIONS\nRÉSERVATIONS :\nappelez le 03 81 87 80 49 ou envoyez un mail à : reservationsmusees@besancon.fr
URL:https://www.mbaa.besancon.fr/event/atelier-le-temps-suspendu-lart-de-la-nature-morte-2/
CATEGORIES:atelier,jeune public
END:VEVENT
END:VCALENDAR