BEGIN:VCALENDAR
VERSION:2.0
PRODID:-//musée des beaux-arts et d&#039;archéologie de Besançon - ECPv5.14.2.1//NONSGML v1.0//EN
CALSCALE:GREGORIAN
METHOD:PUBLISH
X-WR-CALNAME:musée des beaux-arts et d&#039;archéologie de Besançon
X-ORIGINAL-URL:https://www.mbaa.besancon.fr
X-WR-CALDESC:évènements pour musée des beaux-arts et d&#039;archéologie de Besançon
BEGIN:VTIMEZONE
TZID:Europe/Paris
BEGIN:DAYLIGHT
TZOFFSETFROM:+0100
TZOFFSETTO:+0200
TZNAME:CEST
DTSTART:20220327T010000
END:DAYLIGHT
BEGIN:STANDARD
TZOFFSETFROM:+0200
TZOFFSETTO:+0100
TZNAME:CET
DTSTART:20221030T010000
END:STANDARD
END:VTIMEZONE
BEGIN:VEVENT
DTSTART;TZID=Europe/Paris:20220102T103000
DTEND;TZID=Europe/Paris:20220102T113000
DTSTAMP:20260424T123044
CREATED:20211029T125756Z
LAST-MODIFIED:20211029T125756Z
UID:5884-1641119400-1641123000@www.mbaa.besancon.fr
SUMMARY:Visites famille
DESCRIPTION:Les dimanches  2 et 30 janvier à 10h30 \nUn musée\, qu’est-ce que c’est\, qu’est-ce qu’on trouve dedans ? Une sculpture\, une mosaïque\, c’est fait comment ? Autour d’une sélection d’œuvres\, découverte des expositions permanentes ou temporaires en compagnie d’un guide\, pour les petits et les grands. \nDurée : 1h\nGratuit\nRéservation conseillée* \n* INSCRIPTIONS\nRÉSERVATIONS :\nappelez le 03 81 87 80 49 ou envoyez un mail à : reservationsmusees@besancon.fr
URL:https://www.mbaa.besancon.fr/event/visites-famille-2/
CATEGORIES:Famille,visite guidée
END:VEVENT
BEGIN:VEVENT
DTSTART;TZID=Europe/Paris:20220102T150000
DTEND;TZID=Europe/Paris:20220102T160000
DTSTAMP:20260424T123044
CREATED:20211029T093737Z
LAST-MODIFIED:20211029T093737Z
UID:5845-1641135600-1641139200@www.mbaa.besancon.fr
SUMMARY:Visite guidée de l'exposition "En toute discrétion"
DESCRIPTION:
URL:https://www.mbaa.besancon.fr/event/visite-guidee-de-lexposition-en-toute-discretion-7/
CATEGORIES:tout public,visite guidée
END:VEVENT
BEGIN:VEVENT
DTSTART;TZID=Europe/Paris:20220102T163000
DTEND;TZID=Europe/Paris:20220102T173000
DTSTAMP:20260424T123044
CREATED:20211029T112937Z
LAST-MODIFIED:20211029T112937Z
UID:5858-1641141000-1641144600@www.mbaa.besancon.fr
SUMMARY:Visite guidée "La Renaissance dans les arts"
DESCRIPTION:
URL:https://www.mbaa.besancon.fr/event/visite-guidee-la-renaissance-dans-les-arts/
CATEGORIES:tout public,visite guidée
END:VEVENT
END:VCALENDAR