BEGIN:VCALENDAR
VERSION:2.0
PRODID:-//musée des beaux-arts et d&#039;archéologie de Besançon - ECPv5.14.2.1//NONSGML v1.0//EN
CALSCALE:GREGORIAN
METHOD:PUBLISH
X-WR-CALNAME:musée des beaux-arts et d&#039;archéologie de Besançon
X-ORIGINAL-URL:https://www.mbaa.besancon.fr
X-WR-CALDESC:évènements pour musée des beaux-arts et d&#039;archéologie de Besançon
BEGIN:VTIMEZONE
TZID:Europe/Paris
BEGIN:DAYLIGHT
TZOFFSETFROM:+0100
TZOFFSETTO:+0200
TZNAME:CEST
DTSTART:20210328T010000
END:DAYLIGHT
BEGIN:STANDARD
TZOFFSETFROM:+0200
TZOFFSETTO:+0100
TZNAME:CET
DTSTART:20211031T010000
END:STANDARD
END:VTIMEZONE
BEGIN:VEVENT
DTSTART;TZID=Europe/Paris:20211227T141500
DTEND;TZID=Europe/Paris:20211227T161500
DTSTAMP:20260424T123130
CREATED:20211029T135751Z
LAST-MODIFIED:20211029T135810Z
UID:5908-1640614500-1640621700@www.mbaa.besancon.fr
SUMMARY:"Les Grands explorateurs" 7-12 ans
DESCRIPTION:« Peindre la nature » -visite atelier paysage\n Le lundi 27 décembre à 14h15\nEntre monts et forêts\, nous sauterons de feuille en feuille\, de rocher\, pour découvrir les paysages de Franche-Comté et d’ailleurs que recèle le musée. En atelier\, nous expérimentons la mise en place des notions des plans et des perspectives\, défrichées en visite. \nDurée : 2h\n5€ par enfant\nSur inscription * \n* INSCRIPTIONS\nRÉSERVATIONS :\nappelez le 03 81 87 80 49 ou envoyez un mail à : reservationsmusees@besancon.fr
URL:https://www.mbaa.besancon.fr/event/5908/
CATEGORIES:atelier,jeune public,visite guidée
END:VEVENT
END:VCALENDAR