BEGIN:VCALENDAR
VERSION:2.0
PRODID:-//musée des beaux-arts et d&#039;archéologie de Besançon - ECPv5.14.2.1//NONSGML v1.0//EN
CALSCALE:GREGORIAN
METHOD:PUBLISH
X-WR-CALNAME:musée des beaux-arts et d&#039;archéologie de Besançon
X-ORIGINAL-URL:https://www.mbaa.besancon.fr
X-WR-CALDESC:évènements pour musée des beaux-arts et d&#039;archéologie de Besançon
BEGIN:VTIMEZONE
TZID:Europe/Paris
BEGIN:DAYLIGHT
TZOFFSETFROM:+0100
TZOFFSETTO:+0200
TZNAME:CEST
DTSTART:20210328T010000
END:DAYLIGHT
BEGIN:STANDARD
TZOFFSETFROM:+0200
TZOFFSETTO:+0100
TZNAME:CET
DTSTART:20211031T010000
END:STANDARD
END:VTIMEZONE
BEGIN:VEVENT
DTSTART;TZID=Europe/Paris:20211220T141500
DTEND;TZID=Europe/Paris:20211220T161500
DTSTAMP:20260424T135444
CREATED:20211029T135424Z
LAST-MODIFIED:20211029T135424Z
UID:5906-1640009700-1640016900@www.mbaa.besancon.fr
SUMMARY:"Les Grands explorateurs" 7-12 ans
DESCRIPTION:« La tête au carré » – Visite-atelier portrait au pastel à l’huile\n Le lundi 20 décembre à 14h15\nEst-ce que c’est un portrait\, une peinture de chien ou une monnaie d’empereur romain ? Est-ce que le nez est vraiment au milieu de la figure ? Rencontre avec les visages qui ont traversé le temps\,\nconstruction d’un portait à la craie grasse (pastel à l’huile). \nDurée : 2h\n5€ par enfant\nSur inscription * \n* INSCRIPTIONS\nRÉSERVATIONS :\nappelez le 03 81 87 80 49 ou envoyez un mail à : reservationsmusees@besancon.fr
URL:https://www.mbaa.besancon.fr/event/les-grands-explorateurs-7-12-ans-10/
CATEGORIES:atelier,jeune public,visite guidée
END:VEVENT
END:VCALENDAR