BEGIN:VCALENDAR
VERSION:2.0
PRODID:-//musée des beaux-arts et d&#039;archéologie de Besançon - ECPv5.14.2.1//NONSGML v1.0//EN
CALSCALE:GREGORIAN
METHOD:PUBLISH
X-WR-CALNAME:musée des beaux-arts et d&#039;archéologie de Besançon
X-ORIGINAL-URL:https://www.mbaa.besancon.fr
X-WR-CALDESC:évènements pour musée des beaux-arts et d&#039;archéologie de Besançon
BEGIN:VTIMEZONE
TZID:Europe/Paris
BEGIN:DAYLIGHT
TZOFFSETFROM:+0100
TZOFFSETTO:+0200
TZNAME:CEST
DTSTART:20210328T010000
END:DAYLIGHT
BEGIN:STANDARD
TZOFFSETFROM:+0200
TZOFFSETTO:+0100
TZNAME:CET
DTSTART:20211031T010000
END:STANDARD
END:VTIMEZONE
BEGIN:VEVENT
DTSTART;TZID=Europe/Paris:20211219T103000
DTEND;TZID=Europe/Paris:20211219T123000
DTSTAMP:20260424T151447
CREATED:20211029T133846Z
LAST-MODIFIED:20211029T134312Z
UID:5896-1639909800-1639917000@www.mbaa.besancon.fr
SUMMARY:"Les P'tits curieux" 3-6 ans
DESCRIPTION:« Cartes sur table » – Visite-atelier dessin sur carte à gratter\n Le dimanche 19 décembre à 10h30\n Le jeudi 30 décembre à 10h30\n Le mercredi 5 janvier à 14h15\nEn s’inspirant de l’exposition « En toute discrétion » (cartes de voyages\, portraits\, paysages et animaux gravés)\, les enfants réaliseront leur propre « gravure » sur carte à gratter. \nDurée : 1h30 à 2h environ\nGratuit\nSur inscription* \n* INSCRIPTIONS\nRÉSERVATIONS :\nappelez le 03 81 87 80 49 ou envoyez un mail à : reservationsmusees@besancon.fr
URL:https://www.mbaa.besancon.fr/event/5896/
CATEGORIES:atelier,expo,jeune public,visite guidée
END:VEVENT
BEGIN:VEVENT
DTSTART;TZID=Europe/Paris:20211219T150000
DTEND;TZID=Europe/Paris:20211219T160000
DTSTAMP:20260424T151447
CREATED:20211029T093638Z
LAST-MODIFIED:20211029T093638Z
UID:5843-1639926000-1639929600@www.mbaa.besancon.fr
SUMMARY:Visite guidée de l'exposition "En toute discrétion"
DESCRIPTION:
URL:https://www.mbaa.besancon.fr/event/visite-guidee-de-lexposition-en-toute-discretion-5/
CATEGORIES:tout public,visite guidée
END:VEVENT
BEGIN:VEVENT
DTSTART;TZID=Europe/Paris:20211219T163000
DTEND;TZID=Europe/Paris:20211219T173000
DTSTAMP:20260424T151447
CREATED:20211029T095051Z
LAST-MODIFIED:20211029T095051Z
UID:5856-1639931400-1639935000@www.mbaa.besancon.fr
SUMMARY:Visite guidée "Mythes et héros antiques"
DESCRIPTION:
URL:https://www.mbaa.besancon.fr/event/visite-guidee-mythes-et-heros-antiques/
CATEGORIES:tout public,visite guidée
END:VEVENT
END:VCALENDAR