BEGIN:VCALENDAR
VERSION:2.0
PRODID:-//musée des beaux-arts et d&#039;archéologie de Besançon - ECPv5.14.2.1//NONSGML v1.0//EN
CALSCALE:GREGORIAN
METHOD:PUBLISH
X-WR-CALNAME:musée des beaux-arts et d&#039;archéologie de Besançon
X-ORIGINAL-URL:https://www.mbaa.besancon.fr
X-WR-CALDESC:évènements pour musée des beaux-arts et d&#039;archéologie de Besançon
BEGIN:VTIMEZONE
TZID:Europe/Paris
BEGIN:DAYLIGHT
TZOFFSETFROM:+0100
TZOFFSETTO:+0200
TZNAME:CEST
DTSTART:20210328T010000
END:DAYLIGHT
BEGIN:STANDARD
TZOFFSETFROM:+0200
TZOFFSETTO:+0100
TZNAME:CET
DTSTART:20211031T010000
END:STANDARD
END:VTIMEZONE
BEGIN:VEVENT
DTSTART;TZID=Europe/Paris:20211211T100000
DTEND;TZID=Europe/Paris:20211211T180000
DTSTAMP:20260424T135501
CREATED:20211029T114106Z
LAST-MODIFIED:20211029T114106Z
UID:5864-1639216800-1639245600@www.mbaa.besancon.fr
SUMMARY:Samedi piétons / Le 11 décembre
DESCRIPTION:L’entrée au musée est gratuite. \n> À 15h Visite guidée : « Les incontournables du musée »\n> À 16h30 Conférence de Nicolas Joyeux auteur du catalogue  « Les Peintures italiennes du MBAA » qui vient de paraître.
URL:https://www.mbaa.besancon.fr/event/samedi-pietons-le-11-decembre/
CATEGORIES:conférence,tout public,visite guidée
END:VEVENT
BEGIN:VEVENT
DTSTART;TZID=Europe/Paris:20211211T143000
DTEND;TZID=Europe/Paris:20211211T160000
DTSTAMP:20260424T135501
CREATED:20211104T111004Z
LAST-MODIFIED:20211104T111004Z
UID:5920-1639233000-1639238400@www.mbaa.besancon.fr
SUMMARY:Accessibilité / Ouvrez grand les oreilles "En toute discrétion"
DESCRIPTION:Le samedi 11 décembre à 14h30 \nVisite de l’exposition « En toute discrétion » adaptée aux visiteurs en situation de handicap visuel.\nEn partenariat avec AVH Doubs \nDurée : 1h30 \nToutes les animations sont gratuites pour les personnes en situation de handicap et leur accompagnateur. \nSur réservation :\nMiléna Buguet / Référente accessibilité\nmilena.buguet@besancon.fr\n03 81 41 57 86
URL:https://www.mbaa.besancon.fr/event/accessibilite-ouvrez-grand-les-oreilles-en-toute-discretion/
CATEGORIES:expo,handicap,visite guidée
END:VEVENT
BEGIN:VEVENT
DTSTART;TZID=Europe/Paris:20211211T150000
DTEND;TZID=Europe/Paris:20211211T170000
DTSTAMP:20260424T135501
CREATED:20211104T105317Z
LAST-MODIFIED:20211104T105317Z
UID:5914-1639234800-1639242000@www.mbaa.besancon.fr
SUMMARY:Atelier "Le temps suspendu - l'art de la nature morte"
DESCRIPTION:Le MDT s’invite au MBAA \nLe temps qui passe a toujours su fasciner les artistes… À travers cette visite-atelier autour des natures mortes et de la technique du collage\, nous aborderons la notion éminemment abstraite du temps en nous intéressant plus particulièrement à sa représentation symbolique et aux objets qui le matérialisent. \n Le samedi 11 décembre\, à 15h\nPour les 8-9 ans\n Le samedi 8 janvier\, à 15h\nPour les 10-11 ans \nDurée 2h\nSur inscription*\n5€ par enfant \n* INSCRIPTIONS\nRÉSERVATIONS :\nappelez le 03 81 87 80 49 ou envoyez un mail à : reservationsmusees@besancon.fr
URL:https://www.mbaa.besancon.fr/event/atelier-le-temps-suspendu-lart-de-la-nature-morte/
CATEGORIES:atelier,jeune public
END:VEVENT
END:VCALENDAR