BEGIN:VCALENDAR
VERSION:2.0
PRODID:-//musée des beaux-arts et d&#039;archéologie de Besançon - ECPv5.14.2.1//NONSGML v1.0//EN
CALSCALE:GREGORIAN
METHOD:PUBLISH
X-WR-CALNAME:musée des beaux-arts et d&#039;archéologie de Besançon
X-ORIGINAL-URL:https://www.mbaa.besancon.fr
X-WR-CALDESC:évènements pour musée des beaux-arts et d&#039;archéologie de Besançon
BEGIN:VTIMEZONE
TZID:Europe/Paris
BEGIN:DAYLIGHT
TZOFFSETFROM:+0100
TZOFFSETTO:+0200
TZNAME:CEST
DTSTART:20210328T010000
END:DAYLIGHT
BEGIN:STANDARD
TZOFFSETFROM:+0200
TZOFFSETTO:+0100
TZNAME:CET
DTSTART:20211031T010000
END:STANDARD
END:VTIMEZONE
BEGIN:VEVENT
DTSTART;TZID=Europe/Paris:20211208T141500
DTEND;TZID=Europe/Paris:20211208T161500
DTSTAMP:20260424T135323
CREATED:20211029T134819Z
LAST-MODIFIED:20211029T134819Z
UID:5901-1638972900-1638980100@www.mbaa.besancon.fr
SUMMARY:"Les Grands explorateurs" 7-12 ans
DESCRIPTION:« Par Osiris! » – Visite-atelier hiéroglyphes\n Le mercredi 8 décembre à 14h15\n Le dimanche 26 décembre à 10h30\n Le mercredi 29 décembre à 14h15\nDécouverte de l’Égypte ancienne et de son écriture si particulière\, le hiéroglyphe.\nExpérimentation en atelier\, au calame sur papyrus. \nDurée : 2h\n5€ par enfant\nSur inscription * \n* INSCRIPTIONS\nRÉSERVATIONS :\nappelez le 03 81 87 80 49 ou envoyez un mail à : reservationsmusees@besancon.fr
URL:https://www.mbaa.besancon.fr/event/les-grands-explorateurs-7-12-ans-5/
CATEGORIES:atelier,jeune public,visite guidée
END:VEVENT
END:VCALENDAR