BEGIN:VCALENDAR
VERSION:2.0
PRODID:-//musée des beaux-arts et d&#039;archéologie de Besançon - ECPv5.14.2.1//NONSGML v1.0//EN
CALSCALE:GREGORIAN
METHOD:PUBLISH
X-WR-CALNAME:musée des beaux-arts et d&#039;archéologie de Besançon
X-ORIGINAL-URL:https://www.mbaa.besancon.fr
X-WR-CALDESC:évènements pour musée des beaux-arts et d&#039;archéologie de Besançon
BEGIN:VTIMEZONE
TZID:Europe/Paris
BEGIN:DAYLIGHT
TZOFFSETFROM:+0100
TZOFFSETTO:+0200
TZNAME:CEST
DTSTART:20210328T010000
END:DAYLIGHT
BEGIN:STANDARD
TZOFFSETFROM:+0200
TZOFFSETTO:+0100
TZNAME:CET
DTSTART:20211031T010000
END:STANDARD
END:VTIMEZONE
BEGIN:VEVENT
DTSTART;TZID=Europe/Paris:20211203T143000
DTEND;TZID=Europe/Paris:20211203T160000
DTSTAMP:20260424T135444
CREATED:20211104T110502Z
LAST-MODIFIED:20211104T110502Z
UID:5918-1638541800-1638547200@www.mbaa.besancon.fr
SUMMARY:Journée internationale des personnes handicapées
DESCRIPTION:Le vendredi 3 décembre à 14h30 \nVisite-débat sur l’accueil des visiteurs en situation de handicap dans les musées\, avec présentation des plans tactiles du musée par le Lions Club Besançon Lumière. \nDurée : 1h30\nAvec présence d’un interprète LSF. \nToutes les animations sont gratuites pour les personnes en situation de handicap et leur accompagnateur. \nRéservation :\nMiléna Buguet / Référente accessibilité\nmilena.buguet@besancon.fr\n03 81 41 57 86 \n 
URL:https://www.mbaa.besancon.fr/event/journee-internationale-des-personnes-handicapees-2/
CATEGORIES:handicap,rencontre,visite guidée
END:VEVENT
END:VCALENDAR