BEGIN:VCALENDAR
VERSION:2.0
PRODID:-//musée des beaux-arts et d&#039;archéologie de Besançon - ECPv5.14.2.1//NONSGML v1.0//EN
CALSCALE:GREGORIAN
METHOD:PUBLISH
X-WR-CALNAME:musée des beaux-arts et d&#039;archéologie de Besançon
X-ORIGINAL-URL:https://www.mbaa.besancon.fr
X-WR-CALDESC:évènements pour musée des beaux-arts et d&#039;archéologie de Besançon
BEGIN:VTIMEZONE
TZID:Europe/Paris
BEGIN:DAYLIGHT
TZOFFSETFROM:+0100
TZOFFSETTO:+0200
TZNAME:CEST
DTSTART:20210328T010000
END:DAYLIGHT
BEGIN:STANDARD
TZOFFSETFROM:+0200
TZOFFSETTO:+0100
TZNAME:CET
DTSTART:20211031T010000
END:STANDARD
END:VTIMEZONE
BEGIN:VEVENT
DTSTART;TZID=Europe/Paris:20211124T141500
DTEND;TZID=Europe/Paris:20211124T161500
DTSTAMP:20260424T230939
CREATED:20211029T140335Z
LAST-MODIFIED:20211029T140335Z
UID:5912-1637763300-1637770500@www.mbaa.besancon.fr
SUMMARY:"Les Grands explorateurs" 7-12 ans
DESCRIPTION:« Dessinez comme aux beaux-arts ! »\n Les mercredis 24 novembre et 5 janvier à 14h15\nAtelier au sein de l’exposition Infiniment avec Théo Début et Adèle Chiarello \nDurée : 2h\n5€ par enfant\nSur inscription * \n* INSCRIPTIONS\nRÉSERVATIONS :\nappelez le 03 81 87 80 49 ou envoyez un mail à : reservationsmusees@besancon.fr
URL:https://www.mbaa.besancon.fr/event/les-grands-explorateurs-7-12-ans-13/
CATEGORIES:atelier,jeune public,visite guidée
END:VEVENT
BEGIN:VEVENT
DTSTART;TZID=Europe/Paris:20211124T143000
DTEND;TZID=Europe/Paris:20211124T153000
DTSTAMP:20260424T230939
CREATED:20211104T110231Z
LAST-MODIFIED:20211104T110231Z
UID:5917-1637764200-1637767800@www.mbaa.besancon.fr
SUMMARY:Accessibilité / Pianissimo : "En toute discrétion"
DESCRIPTION:Le mercredi 24 novembre à 14h30 \nVisite de l’exposition « En toute discrétion » adaptée aux visiteurs en situation de handicap moteur.\nEn partenariat avec la Maison des Seniors \nDurée : 1h \nLes animations sont gratuites pour les personnes en situation de handicap et leur accompagnateur. \nToutes les animations sont sur réservation.\nMiléna Buguet / Référente accessibilité\nmilena.buguet@besancon.fr\n03 81 41 57 86
URL:https://www.mbaa.besancon.fr/event/accessibilite-pianissimo-en-toute-discretion/
CATEGORIES:handicap,visite guidée
END:VEVENT
END:VCALENDAR