BEGIN:VCALENDAR
VERSION:2.0
PRODID:-//musée des beaux-arts et d&#039;archéologie de Besançon - ECPv5.14.2.1//NONSGML v1.0//EN
CALSCALE:GREGORIAN
METHOD:PUBLISH
X-WR-CALNAME:musée des beaux-arts et d&#039;archéologie de Besançon
X-ORIGINAL-URL:https://www.mbaa.besancon.fr
X-WR-CALDESC:évènements pour musée des beaux-arts et d&#039;archéologie de Besançon
BEGIN:VTIMEZONE
TZID:Europe/Paris
BEGIN:DAYLIGHT
TZOFFSETFROM:+0100
TZOFFSETTO:+0200
TZNAME:CEST
DTSTART:20210328T010000
END:DAYLIGHT
BEGIN:STANDARD
TZOFFSETFROM:+0200
TZOFFSETTO:+0100
TZNAME:CET
DTSTART:20211031T010000
END:STANDARD
END:VTIMEZONE
BEGIN:VEVENT
DTSTART;TZID=Europe/Paris:20211115T140000
DTEND;TZID=Europe/Paris:20211121T180000
DTSTAMP:20260425T030127
CREATED:20211104T105827Z
LAST-MODIFIED:20211104T105827Z
UID:5916-1636984800-1637517600@www.mbaa.besancon.fr
SUMMARY:Semaine bisontine du handicap
DESCRIPTION:Du 15 au 21 novembre \nLe lundi 15 nov. à 15h: ouverture officielle au musée des beaux-arts et d’archéologie\nDiffusion sur les réseaux sociaux de la vidéo réalisée par Virginie Delalande\, avocate et influenceuse\, fondatrice d’Handicapower\nhttps://www.handicapower.com \n Le samedi 20 novembre à 14h30\nAtelier « À vos marques\, prêts\, gravez ! » autour du lancement de l’exposition « En toute discrétion » avec l’Espace-temps Libre de l’ADAPEI du Doubs\nRéservation obligatoire* \nLes animations sont gratuites pour les personnes en situation de handicap et leur accompagnateur. \nRéservation :\nMiléna Buguet / Référente accessibilité\nmilena.buguet@besancon.fr\n03 81 41 57 86
URL:https://www.mbaa.besancon.fr/event/semaine-bisontine-du-handicap/
CATEGORIES:atelier,expo,handicap
END:VEVENT
BEGIN:VEVENT
DTSTART;TZID=Europe/Paris:20211120T140000
DTEND;TZID=Europe/Paris:20211121T160000
DTSTAMP:20260425T030127
CREATED:20211029T120448Z
LAST-MODIFIED:20211029T120448Z
UID:5866-1637416800-1637510400@www.mbaa.besancon.fr
SUMMARY:Stage de danse au musée avec la Compagnie Pernette
DESCRIPTION:Le 20 novembre de 14h à 16h et le 21 novembre de 10h à 16h \nLa compagnie Pernette est associée aux musées du Centre en 2021 pour plusieurs créations (déambulations chorégraphiées pour les expositions « Transmissions » au MDT et « Juliette\nRoche » au MBAA). Nathalie Pernette et Christelle Pinet se proposent d’animer un stage de danse au musée le weekend des 20 et 21 novembre 2021.\nPrésentation au public le dimanche 21 novembre à 17h. \nInscriptions :\ninfo@compagnie-pernette.com
URL:https://www.mbaa.besancon.fr/event/stage-de-danse-au-musee-avec-la-compagnie-pernette/
CATEGORIES:Stage
END:VEVENT
BEGIN:VEVENT
DTSTART;TZID=Europe/Paris:20211121T103000
DTEND;TZID=Europe/Paris:20211121T123000
DTSTAMP:20260425T030127
CREATED:20211029T133604Z
LAST-MODIFIED:20211029T133615Z
UID:5895-1637490600-1637497800@www.mbaa.besancon.fr
SUMMARY:"Les P'tits curieux" 3-6 ans
DESCRIPTION:« Cartes sur table » – Visite-atelier dessin sur carte à gratter\n Les dimanches 21 novembre et 19 décembre à 10h30\n Le jeudi 30 décembre à 10h30\n Le mercredi 5 janvier à 14h15\nEn s’inspirant de l’exposition « En toute discrétion » (cartes de voyages\, portraits\, paysages et animaux gravés)\, les enfants réaliseront leur propre « gravure » sur carte à gratter. \nDurée : 1h30 à 2h environ\nGratuit\nSur inscription* \n* INSCRIPTIONS\nRÉSERVATIONS :\nappelez le 03 81 87 80 49 ou envoyez un mail à : reservationsmusees@besancon.fr
URL:https://www.mbaa.besancon.fr/event/les-ptits-curieux-3-6-ans-16/
CATEGORIES:atelier,expo,jeune public,visite guidée
END:VEVENT
BEGIN:VEVENT
DTSTART;TZID=Europe/Paris:20211121T150000
DTEND;TZID=Europe/Paris:20211121T160000
DTSTAMP:20260425T030127
CREATED:20211029T093443Z
LAST-MODIFIED:20211029T093443Z
UID:5839-1637506800-1637510400@www.mbaa.besancon.fr
SUMMARY:Visite guidée de l'exposition "En toute discrétion"
DESCRIPTION:
URL:https://www.mbaa.besancon.fr/event/visite-guidee-de-lexposition-en-toute-discretion/
CATEGORIES:tout public,visite guidée
END:VEVENT
BEGIN:VEVENT
DTSTART;TZID=Europe/Paris:20211121T163000
DTEND;TZID=Europe/Paris:20211121T173000
DTSTAMP:20260425T030127
CREATED:20211029T094353Z
LAST-MODIFIED:20211029T094353Z
UID:5852-1637512200-1637515800@www.mbaa.besancon.fr
SUMMARY:Visite guidée "La Franche-Comté dans les arts"
DESCRIPTION:
URL:https://www.mbaa.besancon.fr/event/visite-guidee-la-franche-comte-dans-les-arts/
CATEGORIES:tout public,visite guidée
END:VEVENT
END:VCALENDAR