BEGIN:VCALENDAR
VERSION:2.0
PRODID:-//musée des beaux-arts et d&#039;archéologie de Besançon - ECPv5.14.2.1//NONSGML v1.0//EN
CALSCALE:GREGORIAN
METHOD:PUBLISH
X-WR-CALNAME:musée des beaux-arts et d&#039;archéologie de Besançon
X-ORIGINAL-URL:https://www.mbaa.besancon.fr
X-WR-CALDESC:évènements pour musée des beaux-arts et d&#039;archéologie de Besançon
BEGIN:VTIMEZONE
TZID:Europe/Paris
BEGIN:DAYLIGHT
TZOFFSETFROM:+0100
TZOFFSETTO:+0200
TZNAME:CEST
DTSTART:20210328T010000
END:DAYLIGHT
BEGIN:STANDARD
TZOFFSETFROM:+0200
TZOFFSETTO:+0100
TZNAME:CET
DTSTART:20211031T010000
END:STANDARD
END:VTIMEZONE
BEGIN:VEVENT
DTSTART;TZID=Europe/Paris:20210519T100000
DTEND;TZID=Europe/Paris:20211116T180000
DTSTAMP:20260425T145530
CREATED:20210527T072228Z
LAST-MODIFIED:20210527T072228Z
UID:5545-1621418400-1637085600@www.mbaa.besancon.fr
SUMMARY:Didascalie ou l'esprit d'escalier
DESCRIPTION:Chaque année depuis la réouverture du musée en 2018\, un accrochage d’œuvres d’art contemporain se glisse dans les salles et dialogue avec les collections permanentes. Cette année\, des œuvres de Jean-Luc Bari\, d’Iris Levasseur\, de Cécile Meynier et de Djamel Tatah explorent les relations entre l’art et le théâtre\, le musée en tant que décor et la mise en scène de ses collections.
URL:https://www.mbaa.besancon.fr/event/didascalie-ou-lesprit-descalier/
CATEGORIES:expo,tout public
END:VEVENT
BEGIN:VEVENT
DTSTART;TZID=Europe/Paris:20211114T103000
DTEND;TZID=Europe/Paris:20211114T110000
DTSTAMP:20260425T145530
CREATED:20211029T131502Z
LAST-MODIFIED:20211029T131502Z
UID:5886-1636885800-1636887600@www.mbaa.besancon.fr
SUMMARY:Éveils des tout-petits 18 mois-3 ans
DESCRIPTION:Les dimanches 14 novembre\, 12 décembre\, 9 janvier à 10h30 \nIci on scrute les animaux dans un ou deux tableaux\, avec des bruits\, des comptines\, des histoires\, des marionnettes…\nAmenez votre propre doudou (chien\, vache\, mouton\, chèvre\, cochon ou cheval de préférence) ! \nDurée : 30 min environ\nGratuit\nSur inscription* \n* INSCRIPTIONS\nRÉSERVATIONS :\nappelez le 03 81 87 80 49 ou envoyez un mail à : reservationsmusees@besancon.fr
URL:https://www.mbaa.besancon.fr/event/eveils-des-tout-petits-18-mois-3-ans/
CATEGORIES:jeune public,visite guidée
END:VEVENT
BEGIN:VEVENT
DTSTART;TZID=Europe/Paris:20211114T150000
DTEND;TZID=Europe/Paris:20211114T160000
DTSTAMP:20260425T145530
CREATED:20211007T132946Z
LAST-MODIFIED:20211007T132946Z
UID:5795-1636902000-1636905600@www.mbaa.besancon.fr
SUMMARY:Visite découverte du musée "Les Incontournables"
DESCRIPTION:
URL:https://www.mbaa.besancon.fr/event/visite-decouverte-du-musee-les-incontournables-7/
CATEGORIES:médiation,tout public,visite guidée
END:VEVENT
BEGIN:VEVENT
DTSTART;TZID=Europe/Paris:20211114T150000
DTEND;TZID=Europe/Paris:20211114T160000
DTSTAMP:20260425T145530
CREATED:20211029T093348Z
LAST-MODIFIED:20211029T093348Z
UID:5838-1636902000-1636905600@www.mbaa.besancon.fr
SUMMARY:Visite découverte du musée "Les Incontournables"
DESCRIPTION:
URL:https://www.mbaa.besancon.fr/event/visite-decouverte-du-musee-les-incontournables-8/
CATEGORIES:tout public,visite guidée
END:VEVENT
BEGIN:VEVENT
DTSTART;TZID=Europe/Paris:20211114T163000
DTEND;TZID=Europe/Paris:20211114T173000
DTSTAMP:20260425T145530
CREATED:20211029T094226Z
LAST-MODIFIED:20211029T094226Z
UID:5851-1636907400-1636911000@www.mbaa.besancon.fr
SUMMARY:Visite guidée "La collection Besson"
DESCRIPTION:
URL:https://www.mbaa.besancon.fr/event/visite-guidee-la-collection-besson/
CATEGORIES:tout public,visite guidée
END:VEVENT
END:VCALENDAR