BEGIN:VCALENDAR
VERSION:2.0
PRODID:-//musée des beaux-arts et d&#039;archéologie de Besançon - ECPv5.14.2.1//NONSGML v1.0//EN
CALSCALE:GREGORIAN
METHOD:PUBLISH
X-WR-CALNAME:musée des beaux-arts et d&#039;archéologie de Besançon
X-ORIGINAL-URL:https://www.mbaa.besancon.fr
X-WR-CALDESC:évènements pour musée des beaux-arts et d&#039;archéologie de Besançon
BEGIN:VTIMEZONE
TZID:Europe/Paris
BEGIN:DAYLIGHT
TZOFFSETFROM:+0100
TZOFFSETTO:+0200
TZNAME:CEST
DTSTART:20220327T010000
END:DAYLIGHT
BEGIN:STANDARD
TZOFFSETFROM:+0200
TZOFFSETTO:+0100
TZNAME:CET
DTSTART:20221030T010000
END:STANDARD
END:VTIMEZONE
BEGIN:VEVENT
DTSTART;TZID=Europe/Paris:20220709T150000
DTEND;TZID=Europe/Paris:20220709T170000
DTSTAMP:20260424T060528
CREATED:20220621T143750Z
LAST-MODIFIED:20220621T143750Z
UID:6535-1657378800-1657386000@www.mbaa.besancon.fr
SUMMARY:YOGA & MÉDITATION AU MUSÉE AVEC YOGIXELA / Le samedi 9 juillet à 15h
DESCRIPTION:Autour des collections XVIIIe :\n\nMéditation contemplative :\n Samedi 9 juillet à 15h \nYoga :\n Samedi 23 juillet à 10h30 \n— \nÀ partir de 16 ans \n5 euros par personne\nPlaces limitées\, réservation conseillée*
URL:https://www.mbaa.besancon.fr/event/yoga-meditation-au-musee-avec-yogixela-le-samedi-9-juillet-a-15h/
CATEGORIES:Yoga / Méditation
END:VEVENT
END:VCALENDAR