BEGIN:VCALENDAR
VERSION:2.0
PRODID:-//musée des beaux-arts et d&#039;archéologie de Besançon - ECPv5.14.2.1//NONSGML v1.0//EN
CALSCALE:GREGORIAN
METHOD:PUBLISH
X-WR-CALNAME:musée des beaux-arts et d&#039;archéologie de Besançon
X-ORIGINAL-URL:https://www.mbaa.besancon.fr
X-WR-CALDESC:évènements pour musée des beaux-arts et d&#039;archéologie de Besançon
BEGIN:VTIMEZONE
TZID:Europe/Paris
BEGIN:DAYLIGHT
TZOFFSETFROM:+0100
TZOFFSETTO:+0200
TZNAME:CEST
DTSTART:20240331T010000
END:DAYLIGHT
BEGIN:STANDARD
TZOFFSETFROM:+0200
TZOFFSETTO:+0100
TZNAME:CET
DTSTART:20241027T010000
END:STANDARD
END:VTIMEZONE
BEGIN:VEVENT
DTSTART;TZID=Europe/Paris:20241013T160000
DTEND;TZID=Europe/Paris:20241013T170000
DTSTAMP:20260422T151332
CREATED:20241004T082826Z
LAST-MODIFIED:20241004T082826Z
UID:9026-1728835200-1728838800@www.mbaa.besancon.fr
SUMMARY:Visite "Une ville sous nos pieds"
DESCRIPTION:Explorez l’histoire de Besançon\, de la Séquanie à Vesontio\, à travers une riche collection archéologique. De la vie quotidienne gallo-romaine aux trésors tels que le Taureau d’Avrigney ou les spectaculaires mosaïques\, cette visite vous fera voyager à travers les époques. \nDurée : 1h \nTarif : gratuit (hors billet d’entrée) \nSur réservation : https://vosdemarches.grandbesancon.fr/billetterie/mat
URL:https://www.mbaa.besancon.fr/event/visite-une-ville-sous-nos-pieds-2/
CATEGORIES:Archéologie,public adulte,visite guidée
END:VEVENT
END:VCALENDAR