BEGIN:VCALENDAR
VERSION:2.0
PRODID:-//musée des beaux-arts et d&#039;archéologie de Besançon - ECPv5.14.2.1//NONSGML v1.0//EN
CALSCALE:GREGORIAN
METHOD:PUBLISH
X-WR-CALNAME:musée des beaux-arts et d&#039;archéologie de Besançon
X-ORIGINAL-URL:https://www.mbaa.besancon.fr
X-WR-CALDESC:évènements pour musée des beaux-arts et d&#039;archéologie de Besançon
BEGIN:VTIMEZONE
TZID:Europe/Paris
BEGIN:DAYLIGHT
TZOFFSETFROM:+0100
TZOFFSETTO:+0200
TZNAME:CEST
DTSTART:20230326T010000
END:DAYLIGHT
BEGIN:STANDARD
TZOFFSETFROM:+0200
TZOFFSETTO:+0100
TZNAME:CET
DTSTART:20231029T010000
END:STANDARD
END:VTIMEZONE
BEGIN:VEVENT
DTSTART;TZID=Europe/Paris:20230611T163000
DTEND;TZID=Europe/Paris:20230611T173000
DTSTAMP:20260423T071418
CREATED:20230124T144821Z
LAST-MODIFIED:20230302T075848Z
UID:7169-1686501000-1686504600@www.mbaa.besancon.fr
SUMMARY:Visite "Où sont les femmes ? représentation des femmes dans l'art et femmes artistes"
DESCRIPTION:Sur réservation à reservationsmusees@besancon.fr \nDans la limite des places disponibles.
URL:https://www.mbaa.besancon.fr/event/visite-ou-sont-les-femmes-representation-des-femmes-dans-lart-et-femmes-artistes-3/
CATEGORIES:tout public,visite guidée
END:VEVENT
END:VCALENDAR