BEGIN:VCALENDAR
VERSION:2.0
PRODID:-//musée des beaux-arts et d&#039;archéologie de Besançon - ECPv5.14.2.1//NONSGML v1.0//EN
CALSCALE:GREGORIAN
METHOD:PUBLISH
X-WR-CALNAME:musée des beaux-arts et d&#039;archéologie de Besançon
X-ORIGINAL-URL:https://www.mbaa.besancon.fr
X-WR-CALDESC:évènements pour musée des beaux-arts et d&#039;archéologie de Besançon
BEGIN:VTIMEZONE
TZID:Europe/Paris
BEGIN:DAYLIGHT
TZOFFSETFROM:+0100
TZOFFSETTO:+0200
TZNAME:CEST
DTSTART:20260329T010000
END:DAYLIGHT
BEGIN:STANDARD
TZOFFSETFROM:+0200
TZOFFSETTO:+0100
TZNAME:CET
DTSTART:20261025T010000
END:STANDARD
END:VTIMEZONE
BEGIN:VEVENT
DTSTART;TZID=Europe/Paris:20260719T143000
DTEND;TZID=Europe/Paris:20260719T153000
DTSTAMP:20260420T093250
CREATED:20260415T090915Z
LAST-MODIFIED:20260415T090915Z
UID:10380-1784471400-1784475000@www.mbaa.besancon.fr
SUMMARY:Visite "Le cabinet des Arts graphiques"
DESCRIPTION:Entrez exceptionnellement dans le Cabinet des arts graphiques\, la seule réserve interne du musée\, où sont précieusement conservés dessins\, estampes et photographies. Explorez tous ses secrets : son architecture unique\, ses décors raffinés et les oeuvres exceptionnelles qu’il renferme. \nRenseignements et réservation : https://vosdemarches.grandbesancon.fr/billetterie/mat
URL:https://www.mbaa.besancon.fr/event/visite-le-cabinet-des-arts-graphiques-5/
CATEGORIES:art graphique,public adulte,visite guidée
END:VEVENT
END:VCALENDAR