BEGIN:VCALENDAR
VERSION:2.0
PRODID:-//musée des beaux-arts et d&#039;archéologie de Besançon - ECPv5.14.2.1//NONSGML v1.0//EN
CALSCALE:GREGORIAN
METHOD:PUBLISH
X-WR-CALNAME:musée des beaux-arts et d&#039;archéologie de Besançon
X-ORIGINAL-URL:https://www.mbaa.besancon.fr
X-WR-CALDESC:évènements pour musée des beaux-arts et d&#039;archéologie de Besançon
BEGIN:VTIMEZONE
TZID:Europe/Paris
BEGIN:DAYLIGHT
TZOFFSETFROM:+0100
TZOFFSETTO:+0200
TZNAME:CEST
DTSTART:20260329T010000
END:DAYLIGHT
BEGIN:STANDARD
TZOFFSETFROM:+0200
TZOFFSETTO:+0100
TZNAME:CET
DTSTART:20261025T010000
END:STANDARD
END:VTIMEZONE
BEGIN:VEVENT
DTSTART;TZID=Europe/Paris:20260613T143000
DTEND;TZID=Europe/Paris:20260613T153000
DTSTAMP:20260424T214423
CREATED:20260423T135243Z
LAST-MODIFIED:20260423T135243Z
UID:10491-1781361000-1781364600@www.mbaa.besancon.fr
SUMMARY:Visite guidée "Une ville sous nos pieds"
DESCRIPTION:Explorez l’histoire de Besançon\, de la Séquanie à Vesontio\, à travers une riche collection archéologique. De la vie quotidienne gallo-romaine aux trésors tels que les spectaculaires mosaïques\, cette visite vous fera voyager à travers les époques. \nSur réservation : https://vosdemarches.grandbesancon.fr/billetterie/mat
URL:https://www.mbaa.besancon.fr/event/visite-guidee-une-ville-sous-nos-pieds-6/
CATEGORIES:Ado,Archéologie,Evénement,public adulte,visite guidée
END:VEVENT
END:VCALENDAR