BEGIN:VCALENDAR
VERSION:2.0
PRODID:-//musée des beaux-arts et d&#039;archéologie de Besançon - ECPv5.14.2.1//NONSGML v1.0//EN
CALSCALE:GREGORIAN
METHOD:PUBLISH
X-WR-CALNAME:musée des beaux-arts et d&#039;archéologie de Besançon
X-ORIGINAL-URL:https://www.mbaa.besancon.fr
X-WR-CALDESC:évènements pour musée des beaux-arts et d&#039;archéologie de Besançon
BEGIN:VTIMEZONE
TZID:Europe/Paris
BEGIN:DAYLIGHT
TZOFFSETFROM:+0100
TZOFFSETTO:+0200
TZNAME:CEST
DTSTART:20230326T010000
END:DAYLIGHT
BEGIN:STANDARD
TZOFFSETFROM:+0200
TZOFFSETTO:+0100
TZNAME:CET
DTSTART:20231029T010000
END:STANDARD
END:VTIMEZONE
BEGIN:VEVENT
DTSTART;TZID=Europe/Paris:20231119T110000
DTEND;TZID=Europe/Paris:20231119T120000
DTSTAMP:20260423T052153
CREATED:20230928T101728Z
LAST-MODIFIED:20230928T101728Z
UID:8313-1700391600-1700395200@www.mbaa.besancon.fr
SUMMARY:Visite guidée "Où sont les femmes ?" / En partenariat avec le Centre dramatique national de Besançon Franche-Comté
DESCRIPTION:Où sont les femmes ? : Les femmes dans l’art\, de la préhistoire au XXe siècle : visites guidées en partenariat avec le Centre dramatique nationale Besançon Franche-Comté (CDN) à l’occasion de la semaine « Des femmes et des œuvres ». \nLes œuvres du musée vous racontent quelle a été la place des femmes\, notamment des artistes\, dans les sociétés d’hier et d’aujourd’hui. Une visite pour découvrir mais surtout échanger ! \nSamedi 18 et dimanche 19 novembre 2023 à 11h \nGratuit\, sur réservation https://vosdemarches.grandbesancon.fr/billetterie/mbaa \nDépart à l’accueil du musée \nPlus d’information : https://www.cdn-besancon.fr/la-saison/semaine-des-femmes-et-des-oeuvres
URL:https://www.mbaa.besancon.fr/event/visite-guidee-ou-sont-les-femmes-en-partenariat-avec-le-centre-dramatique-national-de-besancon-franche-comte-2/
CATEGORIES:Partenariat,public adulte,visite guidée
END:VEVENT
END:VCALENDAR