BEGIN:VCALENDAR
VERSION:2.0
PRODID:-//musée des beaux-arts et d&#039;archéologie de Besançon - ECPv5.14.2.1//NONSGML v1.0//EN
CALSCALE:GREGORIAN
METHOD:PUBLISH
X-WR-CALNAME:musée des beaux-arts et d&#039;archéologie de Besançon
X-ORIGINAL-URL:https://www.mbaa.besancon.fr
X-WR-CALDESC:évènements pour musée des beaux-arts et d&#039;archéologie de Besançon
BEGIN:VTIMEZONE
TZID:Europe/Paris
BEGIN:DAYLIGHT
TZOFFSETFROM:+0100
TZOFFSETTO:+0200
TZNAME:CEST
DTSTART:20210328T010000
END:DAYLIGHT
BEGIN:STANDARD
TZOFFSETFROM:+0200
TZOFFSETTO:+0100
TZNAME:CET
DTSTART:20211031T010000
END:STANDARD
END:VTIMEZONE
BEGIN:VEVENT
DTSTART;TZID=Europe/Paris:20211212T163000
DTEND;TZID=Europe/Paris:20211212T173000
DTSTAMP:20260419T142342
CREATED:20211029T094829Z
LAST-MODIFIED:20211029T094829Z
UID:5855-1639326600-1639330200@www.mbaa.besancon.fr
SUMMARY:Visite guidée "les barbus du musée\, une visite pas barbante !"
DESCRIPTION:L’art du portrait et de ses codes.
URL:https://www.mbaa.besancon.fr/event/visite-guidee-les-barbus-du-musee-une-visite-pas-barbante-3/
CATEGORIES:tout public,visite guidée
END:VEVENT
END:VCALENDAR