BEGIN:VCALENDAR
VERSION:2.0
PRODID:-//musée des beaux-arts et d&#039;archéologie de Besançon - ECPv5.14.2.1//NONSGML v1.0//EN
CALSCALE:GREGORIAN
METHOD:PUBLISH
X-WR-CALNAME:musée des beaux-arts et d&#039;archéologie de Besançon
X-ORIGINAL-URL:https://www.mbaa.besancon.fr
X-WR-CALDESC:évènements pour musée des beaux-arts et d&#039;archéologie de Besançon
BEGIN:VTIMEZONE
TZID:Europe/Paris
BEGIN:DAYLIGHT
TZOFFSETFROM:+0100
TZOFFSETTO:+0200
TZNAME:CEST
DTSTART:20190331T010000
END:DAYLIGHT
BEGIN:STANDARD
TZOFFSETFROM:+0200
TZOFFSETTO:+0100
TZNAME:CET
DTSTART:20191027T010000
END:STANDARD
END:VTIMEZONE
BEGIN:VEVENT
DTSTART;TZID=Europe/Paris:20190310T150000
DTEND;TZID=Europe/Paris:20190310T160000
DTSTAMP:20260421T115443
CREATED:20190211T134325Z
LAST-MODIFIED:20190211T134655Z
UID:3647-1552230000-1552233600@www.mbaa.besancon.fr
SUMMARY:Visite guidée "L'architecture du musée"
DESCRIPTION:Visite guidée thématique les dimanches à 15h \nLe 10 mars : L’architecture du musée \nDurée 1h \nVisite gratuite sans supplément \nDans la limite de places disponibles \n 
URL:https://www.mbaa.besancon.fr/event/visite-guidee-larchitecture-du-musee/
CATEGORIES:public adulte,visite guidée
END:VEVENT
END:VCALENDAR