BEGIN:VCALENDAR
VERSION:2.0
PRODID:-//musée des beaux-arts et d&#039;archéologie de Besançon - ECPv5.14.2.1//NONSGML v1.0//EN
CALSCALE:GREGORIAN
METHOD:PUBLISH
X-WR-CALNAME:musée des beaux-arts et d&#039;archéologie de Besançon
X-ORIGINAL-URL:https://www.mbaa.besancon.fr
X-WR-CALDESC:évènements pour musée des beaux-arts et d&#039;archéologie de Besançon
BEGIN:VTIMEZONE
TZID:Europe/Paris
BEGIN:DAYLIGHT
TZOFFSETFROM:+0100
TZOFFSETTO:+0200
TZNAME:CEST
DTSTART:20160327T010000
END:DAYLIGHT
BEGIN:STANDARD
TZOFFSETFROM:+0200
TZOFFSETTO:+0100
TZNAME:CET
DTSTART:20161030T010000
END:STANDARD
END:VTIMEZONE
BEGIN:VEVENT
DTSTART;TZID=Europe/Paris:20160430T143000
DTEND;TZID=Europe/Paris:20160430T153000
DTSTAMP:20260422T161200
CREATED:20151118T163937Z
LAST-MODIFIED:20151118T165116Z
UID:2263-1462026600-1462030200@www.mbaa.besancon.fr
SUMMARY:Visite guidée
DESCRIPTION:Visite guidée : exposition Histoires sacrées\, sacrées histoires\n14H30 / Centre Nelson Mandela\n  \nInformations pratiques  \n\nTout public\nDurée : 1h\nEntrée libre et gratuite\n\n  \nProchaines visites\, les samedis à 14h30 :  \n\n21 mai 2016\n4 juin 2016\n9 juillet 2016\n20 et 27 août 2016\n\n  \n 
URL:https://www.mbaa.besancon.fr/event/visite-guidee-8/
CATEGORIES:tout public,visite guidée
END:VEVENT
END:VCALENDAR