BEGIN:VCALENDAR
VERSION:2.0
PRODID:-//musée des beaux-arts et d&#039;archéologie de Besançon - ECPv5.14.2.1//NONSGML v1.0//EN
CALSCALE:GREGORIAN
METHOD:PUBLISH
X-WR-CALNAME:musée des beaux-arts et d&#039;archéologie de Besançon
X-ORIGINAL-URL:https://www.mbaa.besancon.fr
X-WR-CALDESC:évènements pour musée des beaux-arts et d&#039;archéologie de Besançon
BEGIN:VTIMEZONE
TZID:Europe/Paris
BEGIN:DAYLIGHT
TZOFFSETFROM:+0100
TZOFFSETTO:+0200
TZNAME:CEST
DTSTART:20220327T010000
END:DAYLIGHT
BEGIN:STANDARD
TZOFFSETFROM:+0200
TZOFFSETTO:+0100
TZNAME:CET
DTSTART:20221030T010000
END:STANDARD
END:VTIMEZONE
BEGIN:VEVENT
DTSTART;TZID=Europe/Paris:20221002T103000
DTEND;TZID=Europe/Paris:20221002T113000
DTSTAMP:20260420T115240
CREATED:20220930T133641Z
LAST-MODIFIED:20220930T133641Z
UID:6731-1664706600-1664710200@www.mbaa.besancon.fr
SUMMARY:Visite famille
DESCRIPTION:Un musée\, qu’est-ce que c’est\, qu’est-ce qu’on trouve dedans ? Une sculpture\, une mosaïque\, c’est fait comment ? Autour d’une sélection d’œuvres\, découverte des expositions permanentes ou temporaires en compagnie d’un guide\, pour les petits et les grands. \nLes dimanches 2 et 30 octobre\, 6 novembre\, 4 et 29 janvier à 10h30 \n  \nDurée : 1h \nGratuit \nRéservation conseillée au 03 81 87 80 49 ou par mail à reservationsmusées@besancon.fr
URL:https://www.mbaa.besancon.fr/event/visite-famille-21/
CATEGORIES:Famille,jeune public,visite guidée
END:VEVENT
END:VCALENDAR