BEGIN:VCALENDAR
VERSION:2.0
PRODID:-//musée des beaux-arts et d&#039;archéologie de Besançon - ECPv5.14.2.1//NONSGML v1.0//EN
CALSCALE:GREGORIAN
METHOD:PUBLISH
X-WR-CALNAME:musée des beaux-arts et d&#039;archéologie de Besançon
X-ORIGINAL-URL:https://www.mbaa.besancon.fr
X-WR-CALDESC:évènements pour musée des beaux-arts et d&#039;archéologie de Besançon
BEGIN:VTIMEZONE
TZID:Europe/Paris
BEGIN:DAYLIGHT
TZOFFSETFROM:+0100
TZOFFSETTO:+0200
TZNAME:CEST
DTSTART:20260329T010000
END:DAYLIGHT
BEGIN:STANDARD
TZOFFSETFROM:+0200
TZOFFSETTO:+0100
TZNAME:CET
DTSTART:20261025T010000
END:STANDARD
END:VTIMEZONE
BEGIN:VEVENT
DTSTART;TZID=Europe/Paris:20260524T143000
DTEND;TZID=Europe/Paris:20260524T153000
DTSTAMP:20260419T152915
CREATED:20260416T080337Z
LAST-MODIFIED:20260416T080337Z
UID:10388-1779633000-1779636600@www.mbaa.besancon.fr
SUMMARY:Visite "Egyptomania"
DESCRIPTION:Découvrez comment et pourquoi des momies égyptiennes ont rejoint les collections du musée. À travers ces vestiges fascinants\, plongez dans l’univers d’une civilisation millénaire qui ne cesse de captiver l’imaginaire collectif. \nRenseignements et réservation : https://vosdemarches.grandbesancon.fr/billetterie/mat
URL:https://www.mbaa.besancon.fr/event/visite-egyptomania-6/
CATEGORIES:Archéologie,public adulte,visite guidée
END:VEVENT
END:VCALENDAR