BEGIN:VCALENDAR
VERSION:2.0
PRODID:-//musée des beaux-arts et d&#039;archéologie de Besançon - ECPv5.14.2.1//NONSGML v1.0//EN
CALSCALE:GREGORIAN
METHOD:PUBLISH
X-WR-CALNAME:musée des beaux-arts et d&#039;archéologie de Besançon
X-ORIGINAL-URL:https://www.mbaa.besancon.fr
X-WR-CALDESC:évènements pour musée des beaux-arts et d&#039;archéologie de Besançon
BEGIN:VTIMEZONE
TZID:Europe/Paris
BEGIN:DAYLIGHT
TZOFFSETFROM:+0100
TZOFFSETTO:+0200
TZNAME:CEST
DTSTART:20200329T010000
END:DAYLIGHT
BEGIN:STANDARD
TZOFFSETFROM:+0200
TZOFFSETTO:+0100
TZNAME:CET
DTSTART:20201025T010000
END:STANDARD
END:VTIMEZONE
BEGIN:VEVENT
DTSTART;TZID=Europe/Paris:20200621T163000
DTEND;TZID=Europe/Paris:20200621T173000
DTSTAMP:20260423T171837
CREATED:20200616T081914Z
LAST-MODIFIED:20200616T081914Z
UID:5007-1592757000-1592760600@www.mbaa.besancon.fr
SUMMARY:Visite du dimanche "Bienvenue au musée"
DESCRIPTION:Découverte des collections du MBAA. \n\nVisites et entrées gratuites \nDurée : 30/40 min \nRéservation obligatoire : en semaine par mail sur reservationsmusees@besancon.fr et le week-end par téléphone au 03 81 87 82 90 \nPort du masque obligatoire \nJauge réduite
URL:https://www.mbaa.besancon.fr/event/visite-du-dimanche-bienvenue-au-musee-2/
CATEGORIES:médiation,tout public,visite guidée
END:VEVENT
END:VCALENDAR