BEGIN:VCALENDAR
VERSION:2.0
PRODID:-//musée des beaux-arts et d&#039;archéologie de Besançon - ECPv5.14.2.1//NONSGML v1.0//EN
CALSCALE:GREGORIAN
METHOD:PUBLISH
X-WR-CALNAME:musée des beaux-arts et d&#039;archéologie de Besançon
X-ORIGINAL-URL:https://www.mbaa.besancon.fr
X-WR-CALDESC:évènements pour musée des beaux-arts et d&#039;archéologie de Besançon
BEGIN:VTIMEZONE
TZID:Europe/Paris
BEGIN:DAYLIGHT
TZOFFSETFROM:+0100
TZOFFSETTO:+0200
TZNAME:CEST
DTSTART:20250330T010000
END:DAYLIGHT
BEGIN:STANDARD
TZOFFSETFROM:+0200
TZOFFSETTO:+0100
TZNAME:CET
DTSTART:20251026T010000
END:STANDARD
END:VTIMEZONE
BEGIN:VEVENT
DTSTART;TZID=Europe/Paris:20250105T160000
DTEND;TZID=Europe/Paris:20250105T170000
DTSTAMP:20260422T105239
CREATED:20241004T082210Z
LAST-MODIFIED:20241004T082210Z
UID:9014-1736092800-1736096400@www.mbaa.besancon.fr
SUMMARY:Visite "Courbet sans courbettes"
DESCRIPTION:Explorez la vie et l’œuvre du célèbre peintre franc-comtois à travers une sélection exceptionnelle de ses créations. Ne manquez pas cette occasion unique de comprendre la vision audacieuse de Courbet et son impact sur l’art. \nVisites gratuites (hors billet d’entrée) \nDurée : 1h \nMerci de vous présenter 10 minutes avant l’horaire indiqué. \nSur réservation : https://vosdemarches.grandbesancon.fr/billetterie/mat
URL:https://www.mbaa.besancon.fr/event/visite-courbet-sans-courbettes/
CATEGORIES:Beaux-arts,public adulte,visite guidée
END:VEVENT
END:VCALENDAR