BEGIN:VCALENDAR
VERSION:2.0
PRODID:-//musée des beaux-arts et d&#039;archéologie de Besançon - ECPv5.14.2.1//NONSGML v1.0//EN
CALSCALE:GREGORIAN
METHOD:PUBLISH
X-WR-CALNAME:musée des beaux-arts et d&#039;archéologie de Besançon
X-ORIGINAL-URL:https://www.mbaa.besancon.fr
X-WR-CALDESC:évènements pour musée des beaux-arts et d&#039;archéologie de Besançon
BEGIN:VTIMEZONE
TZID:Europe/Paris
BEGIN:DAYLIGHT
TZOFFSETFROM:+0100
TZOFFSETTO:+0200
TZNAME:CEST
DTSTART:20160327T010000
END:DAYLIGHT
BEGIN:STANDARD
TZOFFSETFROM:+0200
TZOFFSETTO:+0100
TZNAME:CET
DTSTART:20161030T010000
END:STANDARD
END:VTIMEZONE
BEGIN:VEVENT
DTSTART;TZID=Europe/Paris:20161119T150000
DTEND;TZID=Europe/Paris:20161119T160000
DTSTAMP:20260426T062457
CREATED:20160928T084837Z
LAST-MODIFIED:20160928T084837Z
UID:2994-1479567600-1479571200@www.mbaa.besancon.fr
SUMMARY:Visite commentée de l'exposition "Mets et délices" / Centre Nelson Mandela
DESCRIPTION:
URL:https://www.mbaa.besancon.fr/event/visite-commentee-de-lexposition-mets-et-delices-centre-nelson-mandela-2/
CATEGORIES:expo,tout public,visite guidée
ATTACH;FMTTYPE=image/jpeg:https://www.mbaa.besancon.fr/wp-content/uploads/2016/09/2.-Juan-de-Zurbaran.jpg
END:VEVENT
END:VCALENDAR