BEGIN:VCALENDAR
VERSION:2.0
PRODID:-//musée des beaux-arts et d&#039;archéologie de Besançon - ECPv5.14.2.1//NONSGML v1.0//EN
CALSCALE:GREGORIAN
METHOD:PUBLISH
X-WR-CALNAME:musée des beaux-arts et d&#039;archéologie de Besançon
X-ORIGINAL-URL:https://www.mbaa.besancon.fr
X-WR-CALDESC:évènements pour musée des beaux-arts et d&#039;archéologie de Besançon
BEGIN:VTIMEZONE
TZID:Europe/Paris
BEGIN:DAYLIGHT
TZOFFSETFROM:+0100
TZOFFSETTO:+0200
TZNAME:CEST
DTSTART:20230326T010000
END:DAYLIGHT
BEGIN:STANDARD
TZOFFSETFROM:+0200
TZOFFSETTO:+0100
TZNAME:CET
DTSTART:20231029T010000
END:STANDARD
END:VTIMEZONE
BEGIN:VEVENT
DTSTART;TZID=Europe/Paris:20231203T140000
DTEND;TZID=Europe/Paris:20231203T150000
DTSTAMP:20260423T035701
CREATED:20230901T113415Z
LAST-MODIFIED:20230901T113415Z
UID:8202-1701612000-1701615600@www.mbaa.besancon.fr
SUMMARY:Visite bavarde / Journée internationale des personnes handicapées
DESCRIPTION:Qui a dit que le guide est le seul détenteur du savoir ? Tout le monde peut s’exprimer face aux tableaux : novices\, timides\, désinvoltes\, bavards\, facétieux\, paresseux ! Avoir une discussion orientée tous ensemble peut donner les clés de compréhension d’une œuvre. Venez tailler une bavette au musée\, autour d’une petite sélection de tableaux sur les émotions ! Un moment convivial\, participatif\, suivi d’un verre de l’amitié. Dans le cadre de la Journée internationale des personnes handicapées\, des membres de l’association Droit Devant 25 sont conviés. \nGratuit \nPour toute information et réservation : \nMiléna Buguet \nRéférente accessibilité \nmilena.buguet@besancon.fr \n03 81 41 57 86
URL:https://www.mbaa.besancon.fr/event/visite-bavarde-journee-internationale-des-personnes-handicapees/
CATEGORIES:handicap,visite guidée
END:VEVENT
END:VCALENDAR