BEGIN:VCALENDAR
VERSION:2.0
PRODID:-//musée des beaux-arts et d&#039;archéologie de Besançon - ECPv5.14.2.1//NONSGML v1.0//EN
CALSCALE:GREGORIAN
METHOD:PUBLISH
X-WR-CALNAME:musée des beaux-arts et d&#039;archéologie de Besançon
X-ORIGINAL-URL:https://www.mbaa.besancon.fr
X-WR-CALDESC:évènements pour musée des beaux-arts et d&#039;archéologie de Besançon
BEGIN:VTIMEZONE
TZID:Europe/Paris
BEGIN:DAYLIGHT
TZOFFSETFROM:+0100
TZOFFSETTO:+0200
TZNAME:CEST
DTSTART:20260329T010000
END:DAYLIGHT
BEGIN:STANDARD
TZOFFSETFROM:+0200
TZOFFSETTO:+0100
TZNAME:CET
DTSTART:20261025T010000
END:STANDARD
END:VTIMEZONE
BEGIN:VEVENT
DTSTART;TZID=Europe/Paris:20260704T143000
DTEND;TZID=Europe/Paris:20260704T153000
DTSTAMP:20260419T214506
CREATED:20260416T083043Z
LAST-MODIFIED:20260416T083043Z
UID:10398-1783175400-1783179000@www.mbaa.besancon.fr
SUMMARY:Visite adaptée "Le regard dans l'art" / Handicap visuel
DESCRIPTION:Découverte participative des œuvres autour du regard dans l’exposition et dans le parcours permanent\, avec un médiateur formé à l’audiodescription. \nEn partenariat avec l’Association Valentin Haüy (AVH) Doubs \n— \nL’entrée\, les animations et les outils sont gratuits pour les personnes en situation de handicap et leur accompagnateur\, qu’ils soient visiteurs individuels ou en groupe. \nInformations et réservations obligatoires :\nMiléna Buguet – Référente accessibilité\nmilena.buguet@besancon.fr / 03 81 41 57 86
URL:https://www.mbaa.besancon.fr/event/visite-adaptee-le-regard-dans-lart-handicap-visuel/
CATEGORIES:handicap,visite guidée
END:VEVENT
END:VCALENDAR