BEGIN:VCALENDAR
VERSION:2.0
PRODID:-//musée des beaux-arts et d&#039;archéologie de Besançon - ECPv5.14.2.1//NONSGML v1.0//EN
CALSCALE:GREGORIAN
METHOD:PUBLISH
X-WR-CALNAME:musée des beaux-arts et d&#039;archéologie de Besançon
X-ORIGINAL-URL:https://www.mbaa.besancon.fr
X-WR-CALDESC:évènements pour musée des beaux-arts et d&#039;archéologie de Besançon
BEGIN:VTIMEZONE
TZID:Europe/Paris
BEGIN:DAYLIGHT
TZOFFSETFROM:+0100
TZOFFSETTO:+0200
TZNAME:CEST
DTSTART:20220327T010000
END:DAYLIGHT
BEGIN:STANDARD
TZOFFSETFROM:+0200
TZOFFSETTO:+0100
TZNAME:CET
DTSTART:20221030T010000
END:STANDARD
END:VTIMEZONE
BEGIN:VEVENT
DTSTART;TZID=Europe/Paris:20220715T101500
DTEND;TZID=Europe/Paris:20220715T114500
DTSTAMP:20260424T044316
CREATED:20220622T094526Z
LAST-MODIFIED:20220622T094526Z
UID:6585-1657880100-1657885500@www.mbaa.besancon.fr
SUMMARY:Vacances au musée ! Les p'tits curieux 3-6 ans "Comme un poisson dans l'eau"
DESCRIPTION:Visite-atelier autour des collections permanentes ou de l’exposition temporaire Charles Belle\nDurée : 1h30\nGratuit\nSur inscription* \n— \nLes nouveautés durant les vacances : \n\n« Comme un poisson dans l’eau » – Visite-atelier spéciale été (en partenariat avec les piscines municipales de Besançon)\nParcours les collections du musée pour découvrir les mythes et légendes qui évoquent l’eau\, puis personnalise ton tote bag pour ranger tes affaires de piscine.\nContinue l’aventure en allant dans une des piscines municipales de Besançon avec ton entrée gratuite.\nLes vendredis\, 15 et 29 juillet et 12 et 26 août à 10h15\n\n*INSCRIPTIONS / RÉSERVATIONS :\nAppelez le 03 81 87 80 49 ou envoyez un mail à : reservationsmusees@besancon.fr\nLe service des réservations est ouvert du lundi 9h au vendredi 12h. En dehors de ces horaires\, vous pouvez contacter l’accueil du musée au 03 81 87 82 90.
URL:https://www.mbaa.besancon.fr/event/vacances-au-musee-les-ptits-curieux-3-6-ans-comme-un-poisson-dans-leau/
CATEGORIES:atelier,jeune public,visite guidée
END:VEVENT
END:VCALENDAR