BEGIN:VCALENDAR
VERSION:2.0
PRODID:-//musée des beaux-arts et d&#039;archéologie de Besançon - ECPv5.14.2.1//NONSGML v1.0//EN
CALSCALE:GREGORIAN
METHOD:PUBLISH
X-WR-CALNAME:musée des beaux-arts et d&#039;archéologie de Besançon
X-ORIGINAL-URL:https://www.mbaa.besancon.fr
X-WR-CALDESC:évènements pour musée des beaux-arts et d&#039;archéologie de Besançon
BEGIN:VTIMEZONE
TZID:Europe/Paris
BEGIN:DAYLIGHT
TZOFFSETFROM:+0100
TZOFFSETTO:+0200
TZNAME:CEST
DTSTART:20220327T010000
END:DAYLIGHT
BEGIN:STANDARD
TZOFFSETFROM:+0200
TZOFFSETTO:+0100
TZNAME:CET
DTSTART:20221030T010000
END:STANDARD
END:VTIMEZONE
BEGIN:VEVENT
DTSTART;TZID=Europe/Paris:20220724T141500
DTEND;TZID=Europe/Paris:20220724T161500
DTSTAMP:20260424T044234
CREATED:20220623T075730Z
LAST-MODIFIED:20220623T075730Z
UID:6605-1658672100-1658679300@www.mbaa.besancon.fr
SUMMARY:Vacances au musée ! Les Grands explorateurs 7-12 ans "Par Osiris !"
DESCRIPTION:Visite-atelier autour des collections permanentes ou de l’exposition temporaire Charles Belle.\nDurée : 2h\,\n5€ par enfant\nSur inscription * \n\n  \n« Par Osiris! » – Visite-atelier hiéroglyphes\nDécouverte de l’Égypte ancienne et de son écriture si particulière\, le hiéroglyphe.\nExpérimentation en atelier\, au calame sur papyrus.\nDimanche 24 juillet à 10h15\nLundi 22 août à 14h15 \n– \n« Peindre la nature » – Visite atelier paysage\nEntre monts et forêts\, nous sauterons de feuille en feuille\, de rocher en rocher\, pour découvrir les paysages de Franche-Comté et d’ailleurs que recèle le musée. En atelier\, nous expérimenterons la mise en place des notions de plans et perspectives\, défrichées en visite.\nDimanche 28 août à 10h15 \n– \n« C’est dans les vieux pots qu’on fait les meilleures soupes… »\nDu chasseur-cueilleur à l’agriculteur qui modèle ses pots\, il n’y a (presque) qu’un pas\, juste quelques milliers d’années! Visite paléo-néolithique et modelage de céramique au colombin\, comme les premiers potiers préhistoriques.\nLundi 29 août à 14h15 \n– \nLes nouveautés durant les vacances : \n« C’est d’ la bombe bébé » – Visite-atelier dessin à la bombe de craie.\nEn s’inspirant de l’exposition Charles Belle\, le musée s’invite sur la place de la Révolution pour créer une oeuvre participatif XXL à la bombe de craie.\nÀ vos bombes\, prêt.e.s ? Graffez !\nLes mercredis 3 et 17 août à 10h15 \n– \n« Comme un poisson dans l’eau » – Visite-atelier spéciale été (en partenariat avec les piscines municipales de la ville)\nParcours les collections du musée pour découvrir les mythes et légendes qui évoquent l’eau\, puis personnalise ton tote bag pour ranger tes affaires de piscine.\nContinue l’aventure en allant dans une des piscines municipales de Besançon avec ton entrée gratuite.\nLes vendredis 5 et 19 août à 14H15 \n\n*INSCRIPTIONS / RÉSERVATIONS :\nAppelez le 03 81 87 80 49 ou envoyez un mail à : reservationsmusees@besancon.fr\nLe service des réservations est ouvert du lundi 9h au vendredi 12h. En dehors de ces horaires\, vous pouvez contacter l’accueil du musée au 03 81 87 82 90.
URL:https://www.mbaa.besancon.fr/event/vacances-au-musee-les-grands-explorateurs-7-12-ans-par-osiris/
CATEGORIES:atelier,jeune public,visite guidée
END:VEVENT
END:VCALENDAR