BEGIN:VCALENDAR
VERSION:2.0
PRODID:-//musée des beaux-arts et d&#039;archéologie de Besançon - ECPv5.14.2.1//NONSGML v1.0//EN
CALSCALE:GREGORIAN
METHOD:PUBLISH
X-WR-CALNAME:musée des beaux-arts et d&#039;archéologie de Besançon
X-ORIGINAL-URL:https://www.mbaa.besancon.fr
X-WR-CALDESC:évènements pour musée des beaux-arts et d&#039;archéologie de Besançon
BEGIN:VTIMEZONE
TZID:Europe/Paris
BEGIN:DAYLIGHT
TZOFFSETFROM:+0100
TZOFFSETTO:+0200
TZNAME:CEST
DTSTART:20140330T010000
END:DAYLIGHT
BEGIN:STANDARD
TZOFFSETFROM:+0200
TZOFFSETTO:+0100
TZNAME:CET
DTSTART:20141026T010000
END:STANDARD
END:VTIMEZONE
BEGIN:VEVENT
DTSTART;TZID=Europe/Paris:20140307T093000
DTEND;TZID=Europe/Paris:20140307T113000
DTSTAMP:20260425T173423
CREATED:20140130T095910Z
LAST-MODIFIED:20140130T095910Z
UID:1365-1394184600-1394191800@www.mbaa.besancon.fr
SUMMARY:Vacances au musée - Atelier "Mosaïque"
DESCRIPTION:A partir d’un modèle\, les enfants réalisent un motif de mosaïque en tesselles ou en gommettes (selon l’âge des enfants). \n  \n3/6 ans – 3€ la séance \nRéservation à l’accueil du musée\, ou par téléphone au 03 81 87 80 49\, ou par mail agnes.rouquette@besancon.fr
URL:https://www.mbaa.besancon.fr/event/vacances-au-musee-atelier-mosaique/
CATEGORIES:atelier,jeune public
ATTACH;FMTTYPE=image/jpeg:https://www.mbaa.besancon.fr/wp-content/uploads/2014/01/P1000110-©-Jean-Louis-Dousson.jpg
END:VEVENT
END:VCALENDAR