BEGIN:VCALENDAR
VERSION:2.0
PRODID:-//musée des beaux-arts et d&#039;archéologie de Besançon - ECPv5.14.2.1//NONSGML v1.0//EN
CALSCALE:GREGORIAN
METHOD:PUBLISH
X-WR-CALNAME:musée des beaux-arts et d&#039;archéologie de Besançon
X-ORIGINAL-URL:https://www.mbaa.besancon.fr
X-WR-CALDESC:évènements pour musée des beaux-arts et d&#039;archéologie de Besançon
BEGIN:VTIMEZONE
TZID:Europe/Paris
BEGIN:DAYLIGHT
TZOFFSETFROM:+0100
TZOFFSETTO:+0200
TZNAME:CEST
DTSTART:20230326T010000
END:DAYLIGHT
BEGIN:STANDARD
TZOFFSETFROM:+0200
TZOFFSETTO:+0100
TZNAME:CET
DTSTART:20231029T010000
END:STANDARD
END:VTIMEZONE
BEGIN:VEVENT
DTSTART;TZID=Europe/Paris:20230610T100000
DTEND;TZID=Europe/Paris:20230611T180000
DTSTAMP:20260422T235549
CREATED:20230125T102304Z
LAST-MODIFIED:20230125T102304Z
UID:7221-1686391200-1686506400@www.mbaa.besancon.fr
SUMMARY:Pixel Art – art et jeux vidéo au musée
DESCRIPTION:Samedi 10 et dimanche 11 juin 2023 de 10h à 18h \nLe musée des Beaux-Arts et d’Archéologie s’associe à l’association du Pixel Bisontin pour un événement inédit où se répondent jeux vidéo et œuvres du musée. En famille ou entre ami.e.s\, partez à la découverte de jeux vidéo installés dans les salles du musée : une expérience unique et ludique garantie ! \nTout public / Entrée libre \n 
URL:https://www.mbaa.besancon.fr/event/pixel-art-art-et-jeux-video-au-musee/
CATEGORIES:jeu,Partenariat,tout public
END:VEVENT
END:VCALENDAR