BEGIN:VCALENDAR
VERSION:2.0
PRODID:-//musée des beaux-arts et d&#039;archéologie de Besançon - ECPv5.14.2.1//NONSGML v1.0//EN
CALSCALE:GREGORIAN
METHOD:PUBLISH
X-WR-CALNAME:musée des beaux-arts et d&#039;archéologie de Besançon
X-ORIGINAL-URL:https://www.mbaa.besancon.fr
X-WR-CALDESC:évènements pour musée des beaux-arts et d&#039;archéologie de Besançon
BEGIN:VTIMEZONE
TZID:Europe/Paris
BEGIN:DAYLIGHT
TZOFFSETFROM:+0100
TZOFFSETTO:+0200
TZNAME:CEST
DTSTART:20250330T010000
END:DAYLIGHT
BEGIN:STANDARD
TZOFFSETFROM:+0200
TZOFFSETTO:+0100
TZNAME:CET
DTSTART:20251026T010000
END:STANDARD
END:VTIMEZONE
BEGIN:VEVENT
DTSTART;TZID=Europe/Paris:20250111T100000
DTEND;TZID=Europe/Paris:20250111T120000
DTSTAMP:20260422T105130
CREATED:20241004T133135Z
LAST-MODIFIED:20241004T133135Z
UID:9138-1736589600-1736596800@www.mbaa.besancon.fr
SUMMARY:Matinée Bien-être au musée
DESCRIPTION:Nos musées s’affirment aussi comme des lieux de bien-être\, où l’on se sent bien et où l’on souhaite passer du temps\, ralentir le temps. Ces activités permettent de redéfinir le musée en tant qu’espace public où le bien-être et l’exercice physique trouvent leur place dans un cadre unique. Offrez-vous une visite du musée dans un état de relaxation\, modifiant ainsi votre perception des œuvres. Un samedi par mois\, en alternance entre le MBAA et le MDT\, venez tester une séance de yoga\, de sophrologie ou des bains sonores pour commencer votre journée dans un état de sérénité et explorez le musée sous un angle inédit. \n  \nTarif : 10€/personne \nProgramme complet des séances à découvrir sur la plateforme de réservations des MAT. \nMerci de vous présenter 10 minutes avant l’horaire indiqué. \nSur réservation : https://vosdemarches.grandbesancon.fr/billetterie/mat
URL:https://www.mbaa.besancon.fr/event/matinee-bien-etre-au-musee-2/
CATEGORIES:Bien-être,public adulte,Yoga / Méditation
END:VEVENT
END:VCALENDAR