BEGIN:VCALENDAR
VERSION:2.0
PRODID:-//musée des beaux-arts et d&#039;archéologie de Besançon - ECPv5.14.2.1//NONSGML v1.0//EN
CALSCALE:GREGORIAN
METHOD:PUBLISH
X-WR-CALNAME:musée des beaux-arts et d&#039;archéologie de Besançon
X-ORIGINAL-URL:https://www.mbaa.besancon.fr
X-WR-CALDESC:évènements pour musée des beaux-arts et d&#039;archéologie de Besançon
BEGIN:VTIMEZONE
TZID:Europe/Paris
BEGIN:DAYLIGHT
TZOFFSETFROM:+0100
TZOFFSETTO:+0200
TZNAME:CEST
DTSTART:20230326T010000
END:DAYLIGHT
BEGIN:STANDARD
TZOFFSETFROM:+0200
TZOFFSETTO:+0100
TZNAME:CET
DTSTART:20231029T010000
END:STANDARD
END:VTIMEZONE
BEGIN:VEVENT
DTSTART;TZID=Europe/Paris:20230804T103000
DTEND;TZID=Europe/Paris:20230804T120000
DTSTAMP:20260423T094717
CREATED:20230614T080103Z
LAST-MODIFIED:20230614T080103Z
UID:7840-1691145000-1691150400@www.mbaa.besancon.fr
SUMMARY:Les P’tits curieux 3-6 ans\, visite-atelier " À l’aise glaise ! "
DESCRIPTION:Une statue\, c’est taillé dans la pierre ou dans le bois\, ou ça peut être modelé dans la terre avec ses petits doigts. Découverte de sculptures de musées et manipulation de moulages et d’argile. \nGratuit \nSur réservation : https://vosdemarches.grandbesancon.fr/billetterie/mbaa \n 
URL:https://www.mbaa.besancon.fr/event/les-ptits-curieux-3-6-ans-visite-atelier-a-laise-glaise-2/
CATEGORIES:atelier,jeune public,visite guidée
END:VEVENT
END:VCALENDAR