BEGIN:VCALENDAR
VERSION:2.0
PRODID:-//musée des beaux-arts et d&#039;archéologie de Besançon - ECPv5.14.2.1//NONSGML v1.0//EN
CALSCALE:GREGORIAN
METHOD:PUBLISH
X-WR-CALNAME:musée des beaux-arts et d&#039;archéologie de Besançon
X-ORIGINAL-URL:https://www.mbaa.besancon.fr
X-WR-CALDESC:évènements pour musée des beaux-arts et d&#039;archéologie de Besançon
BEGIN:VTIMEZONE
TZID:Europe/Paris
BEGIN:DAYLIGHT
TZOFFSETFROM:+0100
TZOFFSETTO:+0200
TZNAME:CEST
DTSTART:20230326T010000
END:DAYLIGHT
BEGIN:STANDARD
TZOFFSETFROM:+0200
TZOFFSETTO:+0100
TZNAME:CET
DTSTART:20231029T010000
END:STANDARD
END:VTIMEZONE
BEGIN:VEVENT
DTSTART;TZID=Europe/Paris:20230628T141500
DTEND;TZID=Europe/Paris:20230628T161500
DTSTAMP:20260421T060105
CREATED:20230127T103737Z
LAST-MODIFIED:20230615T142456Z
UID:7289-1687961700-1687968900@www.mbaa.besancon.fr
SUMMARY:LES P’TITS CURIEUX 3 - 6 ANS / -	Sacré scarabée ! - Visite-atelier moulage
DESCRIPTION:Après une visite découverte de l’Egypte ancienne\, les enfants réaliseront un moulage en argile d’un scarabée égyptien. \nMercredi 28 juin à 14h15 \n— \nDurée : 1h30 à 2h environ \nGratuit \nInscription sur la plateforme de réservations des musées https://vosdemarches.grandbesancon.fr/billetterie/mbaa
URL:https://www.mbaa.besancon.fr/event/les-ptits-curieux-3-6-ans-sacre-scarabee-visite-atelier-moulage-6/
CATEGORIES:atelier,jeune public,médiation,visite guidée
END:VEVENT
END:VCALENDAR