BEGIN:VCALENDAR
VERSION:2.0
PRODID:-//musée des beaux-arts et d&#039;archéologie de Besançon - ECPv5.14.2.1//NONSGML v1.0//EN
CALSCALE:GREGORIAN
METHOD:PUBLISH
X-WR-CALNAME:musée des beaux-arts et d&#039;archéologie de Besançon
X-ORIGINAL-URL:https://www.mbaa.besancon.fr
X-WR-CALDESC:évènements pour musée des beaux-arts et d&#039;archéologie de Besançon
BEGIN:VTIMEZONE
TZID:Europe/Paris
BEGIN:DAYLIGHT
TZOFFSETFROM:+0100
TZOFFSETTO:+0200
TZNAME:CEST
DTSTART:20220327T010000
END:DAYLIGHT
BEGIN:STANDARD
TZOFFSETFROM:+0200
TZOFFSETTO:+0100
TZNAME:CET
DTSTART:20221030T010000
END:STANDARD
END:VTIMEZONE
BEGIN:VEVENT
DTSTART;TZID=Europe/Paris:20221028T103000
DTEND;TZID=Europe/Paris:20221028T123000
DTSTAMP:20260424T020343
CREATED:20220930T135421Z
LAST-MODIFIED:20220930T135421Z
UID:6752-1666953000-1666960200@www.mbaa.besancon.fr
SUMMARY:Les P'tits curieux 3-6 ans / "Mon petit herbier ! Le végétal dans les arts"
DESCRIPTION:Parcourez le musée pour découvrir les plantes et les fleurs qui se cachent dans les tableaux du musée grâce à une visite ludique et sensorielle. Pour compléter l’expérience un petit herbier sera créé pour comparer les plantes vues dans les tableaux avec celles de la nature. \n  \nVendredi 28 octobre à 10h30 (vacances scolaires) \nDimanche 20 novembre à 10h30 \nMercredi 28 décembre à 10h30 (vacances scolaires) \n  \nDurée : 1h30 à 2h environ \nSur inscription au 03 81 87 80 49 ou par mail à reservationsmusees@besancon.fr \nGratuit \n 
URL:https://www.mbaa.besancon.fr/event/les-ptits-curieux-3-6-ans-mon-petit-herbier-le-vegetal-dans-les-arts/
CATEGORIES:atelier,jeune public,visite guidée
END:VEVENT
END:VCALENDAR