BEGIN:VCALENDAR
VERSION:2.0
PRODID:-//musée des beaux-arts et d&#039;archéologie de Besançon - ECPv5.14.2.1//NONSGML v1.0//EN
CALSCALE:GREGORIAN
METHOD:PUBLISH
X-WR-CALNAME:musée des beaux-arts et d&#039;archéologie de Besançon
X-ORIGINAL-URL:https://www.mbaa.besancon.fr
X-WR-CALDESC:évènements pour musée des beaux-arts et d&#039;archéologie de Besançon
BEGIN:VTIMEZONE
TZID:Europe/Paris
BEGIN:DAYLIGHT
TZOFFSETFROM:+0100
TZOFFSETTO:+0200
TZNAME:CEST
DTSTART:20220327T010000
END:DAYLIGHT
BEGIN:STANDARD
TZOFFSETFROM:+0200
TZOFFSETTO:+0100
TZNAME:CET
DTSTART:20221030T010000
END:STANDARD
END:VTIMEZONE
BEGIN:VEVENT
DTSTART;TZID=Europe/Paris:20221104T103000
DTEND;TZID=Europe/Paris:20221104T123000
DTSTAMP:20260423T225354
CREATED:20220930T135014Z
LAST-MODIFIED:20220930T135014Z
UID:6748-1667557800-1667565000@www.mbaa.besancon.fr
SUMMARY:Les P'tits curieux 3-6 ans / Les p’tits cailloux - Visite-atelier mosaïque
DESCRIPTION:« En 50 avant Jésus Christ\, toute la Gaule occupée. Toute ? » Oui ! Même Besançon\, qui s’appelle alors Vesontio. Les Gallo-romains y construisent de très riches maisons. Découverte des mosaïques conservées au musée\, puis place à la pratique ! \n  \nVendredi 4 novembre à 10h30 (vacances au musée) \nMercredi 9 novembre à 14h15 \nDimanche 18 décembre 10h30 \n  \nDurée : 1h30 à 2h environ \nSur inscription au 03 81 87 80 49 ou par mail à reservationsmusees@besancon.fr \nGratuit
URL:https://www.mbaa.besancon.fr/event/les-ptits-curieux-3-6-ans-les-ptits-cailloux-visite-atelier-mosaique/
CATEGORIES:atelier,jeune public,visite guidée
END:VEVENT
END:VCALENDAR