BEGIN:VCALENDAR
VERSION:2.0
PRODID:-//musée des beaux-arts et d&#039;archéologie de Besançon - ECPv5.14.2.1//NONSGML v1.0//EN
CALSCALE:GREGORIAN
METHOD:PUBLISH
X-WR-CALNAME:musée des beaux-arts et d&#039;archéologie de Besançon
X-ORIGINAL-URL:https://www.mbaa.besancon.fr
X-WR-CALDESC:évènements pour musée des beaux-arts et d&#039;archéologie de Besançon
BEGIN:VTIMEZONE
TZID:Europe/Paris
BEGIN:DAYLIGHT
TZOFFSETFROM:+0100
TZOFFSETTO:+0200
TZNAME:CEST
DTSTART:20220327T010000
END:DAYLIGHT
BEGIN:STANDARD
TZOFFSETFROM:+0200
TZOFFSETTO:+0100
TZNAME:CET
DTSTART:20221030T010000
END:STANDARD
END:VTIMEZONE
BEGIN:VEVENT
DTSTART;TZID=Europe/Paris:20221016T103000
DTEND;TZID=Europe/Paris:20221016T123000
DTSTAMP:20260424T003408
CREATED:20220930T134631Z
LAST-MODIFIED:20220930T134631Z
UID:6743-1665916200-1665923400@www.mbaa.besancon.fr
SUMMARY:Les P'tits curieux 3-6 ans / "À l'aise\, glaise!" - Manipulation & modelage
DESCRIPTION:Une statue\, c’est taillé dans la pierre ou dans le bois\, ou ça peut être modelée dans la terre avec ses petits doigts. Découverte de sculptures du musée et manipulation de moulages et d’argile. \nDurée : 1h30 à 2h environ \nSur inscription au 03 81 87 80 49 ou par mail à reservationsmusees@besancon.fr \ngratuit
URL:https://www.mbaa.besancon.fr/event/les-ptits-curieux-3-6-ans-a-laise-glaise-manipulation-modelage/
CATEGORIES:atelier,jeune public,visite guidée
END:VEVENT
END:VCALENDAR