BEGIN:VCALENDAR
VERSION:2.0
PRODID:-//musée des beaux-arts et d&#039;archéologie de Besançon - ECPv5.14.2.1//NONSGML v1.0//EN
CALSCALE:GREGORIAN
METHOD:PUBLISH
X-WR-CALNAME:musée des beaux-arts et d&#039;archéologie de Besançon
X-ORIGINAL-URL:https://www.mbaa.besancon.fr
X-WR-CALDESC:évènements pour musée des beaux-arts et d&#039;archéologie de Besançon
BEGIN:VTIMEZONE
TZID:Europe/Paris
BEGIN:DAYLIGHT
TZOFFSETFROM:+0100
TZOFFSETTO:+0200
TZNAME:CEST
DTSTART:20210328T010000
END:DAYLIGHT
BEGIN:STANDARD
TZOFFSETFROM:+0200
TZOFFSETTO:+0100
TZNAME:CET
DTSTART:20211031T010000
END:STANDARD
END:VTIMEZONE
BEGIN:VEVENT
DTSTART;TZID=Europe/Paris:20211201T141500
DTEND;TZID=Europe/Paris:20211201T161500
DTSTAMP:20260424T135659
CREATED:20211029T132112Z
LAST-MODIFIED:20211029T132112Z
UID:5889-1638368100-1638375300@www.mbaa.besancon.fr
SUMMARY:"Les P'tits curieux" 3-6 ans
DESCRIPTION:« À l’aise\, glaise! » – Manipulation & modelage\n Le mercredi 1er décembre à 14h15\n Le dimanche 16 janvier à 10h30\nUne statue\, c’est taillé dans la pierre ou dans le bois\, ou ça peut être modelé dans la terre avec ses petits doigts. Découverte de sculptures de musées et manipulation de moulages et d’argile. \nDurée : 1h30 à 2h environ\nGratuit\nSur inscription* \n* INSCRIPTIONS\nRÉSERVATIONS :\nappelez le 03 81 87 80 49 ou envoyez un mail à : reservationsmusees@besancon.fr
URL:https://www.mbaa.besancon.fr/event/les-ptits-curieux-3-6-ans-10/
CATEGORIES:atelier,jeune public,visite guidée
END:VEVENT
END:VCALENDAR