BEGIN:VCALENDAR
VERSION:2.0
PRODID:-//musée des beaux-arts et d&#039;archéologie de Besançon - ECPv5.14.2.1//NONSGML v1.0//EN
CALSCALE:GREGORIAN
METHOD:PUBLISH
X-WR-CALNAME:musée des beaux-arts et d&#039;archéologie de Besançon
X-ORIGINAL-URL:https://www.mbaa.besancon.fr
X-WR-CALDESC:évènements pour musée des beaux-arts et d&#039;archéologie de Besançon
BEGIN:VTIMEZONE
TZID:Europe/Paris
BEGIN:DAYLIGHT
TZOFFSETFROM:+0100
TZOFFSETTO:+0200
TZNAME:CEST
DTSTART:20220327T010000
END:DAYLIGHT
BEGIN:STANDARD
TZOFFSETFROM:+0200
TZOFFSETTO:+0100
TZNAME:CET
DTSTART:20221030T010000
END:STANDARD
END:VTIMEZONE
BEGIN:VEVENT
DTSTART;TZID=Europe/Paris:20220618T100000
DTEND;TZID=Europe/Paris:20220619T180000
DTSTAMP:20260424T072002
CREATED:20220201T093748Z
LAST-MODIFIED:20220201T093748Z
UID:6086-1655546400-1655661600@www.mbaa.besancon.fr
SUMMARY:Les Journées européennes de l'archéologie / Les 18 et 19 juin 2022
DESCRIPTION:De 10H à 18H \nProgramme détaillé à venir sur le site du musée et sur https://journees-archeologie.fr/\nEntrée gratuite
URL:https://www.mbaa.besancon.fr/event/les-journees-europeennes-de-larcheologie-les-18-et-19-juin-2022/
CATEGORIES:atelier,Evénement,Famille,jeune public,manifestation,médiation,tout public,visite guidée
END:VEVENT
END:VCALENDAR