BEGIN:VCALENDAR
VERSION:2.0
PRODID:-//musée des beaux-arts et d&#039;archéologie de Besançon - ECPv5.14.2.1//NONSGML v1.0//EN
CALSCALE:GREGORIAN
METHOD:PUBLISH
X-WR-CALNAME:musée des beaux-arts et d&#039;archéologie de Besançon
X-ORIGINAL-URL:https://www.mbaa.besancon.fr
X-WR-CALDESC:évènements pour musée des beaux-arts et d&#039;archéologie de Besançon
BEGIN:VTIMEZONE
TZID:Europe/Paris
BEGIN:DAYLIGHT
TZOFFSETFROM:+0100
TZOFFSETTO:+0200
TZNAME:CEST
DTSTART:20240331T010000
END:DAYLIGHT
BEGIN:STANDARD
TZOFFSETFROM:+0200
TZOFFSETTO:+0100
TZNAME:CET
DTSTART:20241027T010000
END:STANDARD
END:VTIMEZONE
BEGIN:VEVENT
DTSTART;TZID=Europe/Paris:20240320T141500
DTEND;TZID=Europe/Paris:20240320T161500
DTSTAMP:20260423T011208
CREATED:20230901T083428Z
LAST-MODIFIED:20230901T083428Z
UID:8116-1710944100-1710951300@www.mbaa.besancon.fr
SUMMARY:Les Grands explorateurs 7-12 ans / Visite-atelier "Peindre la nature"
DESCRIPTION:Entre monts et forêts\, nous sauteront de feuille en feuille\, de rocher\, pour découvrir les paysages de Franche-Comté et d’ailleurs\, que recèle le musée. En atelier\, nous expérimentons la mise en place des notions des plans et des perspectives\, défrichées en visite. \nTarif : 5€ \nSur réservation : https://vosdemarches.grandbesancon.fr/billetterie/mbaa \n 
URL:https://www.mbaa.besancon.fr/event/les-grands-explorateurs-7-12-ans-visite-atelier-peindre-la-nature-2/
CATEGORIES:atelier,jeune public,visite guidée
END:VEVENT
END:VCALENDAR