BEGIN:VCALENDAR
VERSION:2.0
PRODID:-//musée des beaux-arts et d&#039;archéologie de Besançon - ECPv5.14.2.1//NONSGML v1.0//EN
CALSCALE:GREGORIAN
METHOD:PUBLISH
X-WR-CALNAME:musée des beaux-arts et d&#039;archéologie de Besançon
X-ORIGINAL-URL:https://www.mbaa.besancon.fr
X-WR-CALDESC:évènements pour musée des beaux-arts et d&#039;archéologie de Besançon
BEGIN:VTIMEZONE
TZID:Europe/Paris
BEGIN:DAYLIGHT
TZOFFSETFROM:+0100
TZOFFSETTO:+0200
TZNAME:CEST
DTSTART:20230326T010000
END:DAYLIGHT
BEGIN:STANDARD
TZOFFSETFROM:+0200
TZOFFSETTO:+0100
TZNAME:CET
DTSTART:20231029T010000
END:STANDARD
END:VTIMEZONE
BEGIN:VEVENT
DTSTART;TZID=Europe/Paris:20230827T103000
DTEND;TZID=Europe/Paris:20230827T123000
DTSTAMP:20260421T115808
CREATED:20230614T070609Z
LAST-MODIFIED:20230614T070609Z
UID:7774-1693132200-1693139400@www.mbaa.besancon.fr
SUMMARY:Les Grands explorateurs 7-12 ans\, visite-atelier "Par Osiris !"
DESCRIPTION:Tarif : 5€ \nSur réservation : https://vosdemarches.grandbesancon.fr/billetterie/mbaa
URL:https://www.mbaa.besancon.fr/event/les-grands-explorateurs-7-12-ans-visite-atelier-par-osiris-4/
CATEGORIES:Archéologie,atelier,jeune public,visite guidée
END:VEVENT
END:VCALENDAR