BEGIN:VCALENDAR
VERSION:2.0
PRODID:-//musée des beaux-arts et d&#039;archéologie de Besançon - ECPv5.14.2.1//NONSGML v1.0//EN
CALSCALE:GREGORIAN
METHOD:PUBLISH
X-WR-CALNAME:musée des beaux-arts et d&#039;archéologie de Besançon
X-ORIGINAL-URL:https://www.mbaa.besancon.fr
X-WR-CALDESC:évènements pour musée des beaux-arts et d&#039;archéologie de Besançon
BEGIN:VTIMEZONE
TZID:Europe/Paris
BEGIN:DAYLIGHT
TZOFFSETFROM:+0100
TZOFFSETTO:+0200
TZNAME:CEST
DTSTART:20220327T010000
END:DAYLIGHT
BEGIN:STANDARD
TZOFFSETFROM:+0200
TZOFFSETTO:+0100
TZNAME:CET
DTSTART:20221030T010000
END:STANDARD
END:VTIMEZONE
BEGIN:VEVENT
DTSTART;TZID=Europe/Paris:20220615T141500
DTEND;TZID=Europe/Paris:20220615T161500
DTSTAMP:20260424T055838
CREATED:20220201T155650Z
LAST-MODIFIED:20220201T155650Z
UID:6193-1655302500-1655309700@www.mbaa.besancon.fr
SUMMARY:Les Grands explorateurs 7-12 ans / Atelier "C’est d’ la bombe bébé"
DESCRIPTION:C’est d’ la bombe bébé – Visite-atelier dessin à la bombe de craie. \n>Les mercredis 15 et 29 juin à 14h15 \nEn s’inspirant de l’exposition Charles Belle\, le musée s’invite sur la place de la révolution pour créer une œuvre participative XXL à la bombe de craie. À vos bombes\, prêt.e.s ? Graffez ! \nDurée : 2h\n5€ par enfant\nSur inscription au 03 81 87 80 49 ou par mail à reservationsmusees@besancon.fr 
URL:https://www.mbaa.besancon.fr/event/les-grands-explorateurs-7-12-ans-atelier-cest-d-la-bombe-bebe-2/
CATEGORIES:atelier,jeune public,visite guidée
END:VEVENT
END:VCALENDAR