BEGIN:VCALENDAR
VERSION:2.0
PRODID:-//musée des beaux-arts et d&#039;archéologie de Besançon - ECPv5.14.2.1//NONSGML v1.0//EN
CALSCALE:GREGORIAN
METHOD:PUBLISH
X-WR-CALNAME:musée des beaux-arts et d&#039;archéologie de Besançon
X-ORIGINAL-URL:https://www.mbaa.besancon.fr
X-WR-CALDESC:évènements pour musée des beaux-arts et d&#039;archéologie de Besançon
BEGIN:VTIMEZONE
TZID:Europe/Paris
BEGIN:DAYLIGHT
TZOFFSETFROM:+0100
TZOFFSETTO:+0200
TZNAME:CEST
DTSTART:20230326T010000
END:DAYLIGHT
BEGIN:STANDARD
TZOFFSETFROM:+0200
TZOFFSETTO:+0100
TZNAME:CET
DTSTART:20231029T010000
END:STANDARD
END:VTIMEZONE
BEGIN:VEVENT
DTSTART;TZID=Europe/Paris:20230429T100000
DTEND;TZID=Europe/Paris:20230430T180000
DTSTAMP:20260423T171858
CREATED:20230125T102055Z
LAST-MODIFIED:20230125T102055Z
UID:7217-1682762400-1682877600@www.mbaa.besancon.fr
SUMMARY:L’anniversaire des Sandales d'Empédocle
DESCRIPTION:Samedi 29 et dimanche 30 avril \nRencontre avec des écrivains et des invités de la librairie qui fête ses 50 ans. \nRenseignements https://www.sandalesdempedocle.fr
URL:https://www.mbaa.besancon.fr/event/lanniversaire-des-sandales-dempedocle/
CATEGORIES:Littérature,Partenariat
END:VEVENT
END:VCALENDAR