BEGIN:VCALENDAR
VERSION:2.0
PRODID:-//musée des beaux-arts et d&#039;archéologie de Besançon - ECPv5.14.2.1//NONSGML v1.0//EN
CALSCALE:GREGORIAN
METHOD:PUBLISH
X-WR-CALNAME:musée des beaux-arts et d&#039;archéologie de Besançon
X-ORIGINAL-URL:https://www.mbaa.besancon.fr
X-WR-CALDESC:évènements pour musée des beaux-arts et d&#039;archéologie de Besançon
BEGIN:VTIMEZONE
TZID:Europe/Paris
BEGIN:DAYLIGHT
TZOFFSETFROM:+0100
TZOFFSETTO:+0200
TZNAME:CEST
DTSTART:20150329T010000
END:DAYLIGHT
BEGIN:STANDARD
TZOFFSETFROM:+0200
TZOFFSETTO:+0100
TZNAME:CET
DTSTART:20151025T010000
END:STANDARD
END:VTIMEZONE
BEGIN:VEVENT
DTSTART;TZID=Europe/Paris:20150617T143000
DTEND;TZID=Europe/Paris:20150617T163000
DTSTAMP:20260419T165844
CREATED:20150401T073408Z
LAST-MODIFIED:20150401T073408Z
UID:1898-1434551400-1434558600@www.mbaa.besancon.fr
SUMMARY:Jeux en famille - Maison de Quartier Planoise
DESCRIPTION:Le musée des Beaux-Arts et d’Archéologie s’associe aux après-midis Jeux en famille proposés par la Maison de quartier Planoise\, à travers des jeux s’appuyant sur les collections du musée ou sur le thème du voyage. \n  \nJeux en famille à la Maison de quartier Planoise : espace de jeux\, temps d’accueil et d’informations pour les familles. \nTous les mercredis de 14h30 à 16h30 (périodes scolaires)
URL:https://www.mbaa.besancon.fr/event/jeux-en-famille-maison-de-quartier-planoise-8/
CATEGORIES:tout public
END:VEVENT
END:VCALENDAR