BEGIN:VCALENDAR
VERSION:2.0
PRODID:-//musée des beaux-arts et d&#039;archéologie de Besançon - ECPv5.14.2.1//NONSGML v1.0//EN
CALSCALE:GREGORIAN
METHOD:PUBLISH
X-WR-CALNAME:musée des beaux-arts et d&#039;archéologie de Besançon
X-ORIGINAL-URL:https://www.mbaa.besancon.fr
X-WR-CALDESC:évènements pour musée des beaux-arts et d&#039;archéologie de Besançon
BEGIN:VTIMEZONE
TZID:Europe/Paris
BEGIN:DAYLIGHT
TZOFFSETFROM:+0100
TZOFFSETTO:+0200
TZNAME:CEST
DTSTART:20160327T010000
END:DAYLIGHT
BEGIN:STANDARD
TZOFFSETFROM:+0200
TZOFFSETTO:+0100
TZNAME:CET
DTSTART:20161030T010000
END:STANDARD
END:VTIMEZONE
BEGIN:VEVENT
DTSTART;TZID=Europe/Paris:20160106T143000
DTEND;TZID=Europe/Paris:20160106T163000
DTSTAMP:20260424T013922
CREATED:20151118T170946Z
LAST-MODIFIED:20151118T171124Z
UID:2278-1452090600-1452097800@www.mbaa.besancon.fr
SUMMARY:Jeux en famille
DESCRIPTION:Jeux en famille\n\nTous les mercredis de 14H30 à 16h30 (hors vacances scolaires) / Maison de quartier Planoise\n  \nInformations pratiques  \n\nEntrée libre et gratuite\nPour les enfants et leurs parents\n\nDes jeux à votre disposition \nArrivez et repartez quand vous le voulez !  \n 
URL:https://www.mbaa.besancon.fr/event/jeux-en-famille-5/
CATEGORIES:atelier,jeune public
END:VEVENT
END:VCALENDAR